BEGIN:VCALENDAR
PRODID:NingEventWidget-v1
VERSION:2.0
METHOD:PUBLISH
BEGIN:VTIMEZONE
TZID:America/Los_Angeles
X-LIC-LOCATION:America/Los_Angeles
BEGIN:DAYLIGHT
TZOFFSETFROM:-0800
TZOFFSETTO:-0700
TZNAME:PDT
DTSTART:19700308T020000
RRULE:FREQ=YEARLY;BYMONTH=3;BYDAY=2SU
END:DAYLIGHT
BEGIN:STANDARD
TZOFFSETFROM:-0700
TZOFFSETTO:-0800
TZNAME:PST
DTSTART:19701101T020000
RRULE:FREQ=YEARLY;BYMONTH=11;BYDAY=1SU
END:STANDARD
END:VTIMEZONE
BEGIN:VEVENT
UID:1464587:Event:285946
DTSTAMP:20260420T183435Z
SUMMARY:MELT! Presents Carina Lomeli Art Exhibiton
DESCRIPTION:Join us for a night of exquisite art, music and food. \n\n
 Opening Reception: January 14th 2013, Tue\n6:00PM\n Carina Lomeli is a
  Local Xicana Artist representing Michoacan, Arizona and Califaztlan s
 ince 2005. Her art works are impressionistic political reminders of th
 e beauty that is San Francisco. Do not miss out on live music, amazing
  food and conversations/poetry.   More info @: www.carinalomeli.com\n\
 nFor more information visit http://trueskool.com/events/melt-presents-
 carina-lomeli-art-exhibiton
DTSTART;TZID=America/Los_Angeles:20140105T180000
DTEND;TZID=America/Los_Angeles:20140228T190000
CATEGORIES:san, francisco, activism, bikes, critical, mass, xicana, po
 litical, impressionistic, michoacan
LOCATION:MELT!  San Francisco
WEBSITE:http://carinalomeli.com/home.html
URL:http://carinalomeli.com/home.html
CONTACT:
ORGANIZER;CN="Carina Lomeli":http://trueskool.com/profile/CarinaLomeli
 459
ATTACH;FMTTYPE="image/jpeg":http://storage.ning.com/topology/rest/1.0/
 file/get/2247955713?profile=original
ATTENDEE;ROLE=REQ-PARTICIPANT;PARTSTAT=ACCEPTED;RSVP=TRUE;CN="Carina L
 omeli":http://trueskool.com/profile/CarinaLomeli459
END:VEVENT
END:VCALENDAR
