BEGIN:VCALENDAR
PRODID:NingEventWidget-v1
VERSION:2.0
METHOD:PUBLISH
BEGIN:VTIMEZONE
TZID:America/Los_Angeles
X-LIC-LOCATION:America/Los_Angeles
BEGIN:DAYLIGHT
TZOFFSETFROM:-0800
TZOFFSETTO:-0700
TZNAME:PDT
DTSTART:19700308T020000
RRULE:FREQ=YEARLY;BYMONTH=3;BYDAY=2SU
END:DAYLIGHT
BEGIN:STANDARD
TZOFFSETFROM:-0700
TZOFFSETTO:-0800
TZNAME:PST
DTSTART:19701101T020000
RRULE:FREQ=YEARLY;BYMONTH=11;BYDAY=1SU
END:STANDARD
END:VTIMEZONE
BEGIN:VEVENT
UID:1464587:Event:644676
DTSTAMP:20260420T151825Z
SUMMARY:Mayer Hawthorne
DESCRIPTION:Mayer Hawthorne\nFriday, May 6 20168:00 PMFox TheaterOakla
 nd, CA\n\nFor more information visit http://trueskool.com/events/mayer
 -hawthorne-3
DTSTART;TZID=America/Los_Angeles:20160506T200000
DTEND;TZID=America/Los_Angeles:20160506T230000
CATEGORIES:"san francisco", oakland, berkley, "san jose", "bay area"
LOCATION:Fox Theater, Oakland
WEBSITE:http://www.ticketmaster.com/event/1C00505DFFC44B0F?brand=anoth
 erplanet&camefrom=CFC_ANOTHERPLANET_web
URL:http://www.ticketmaster.com/event/1C00505DFFC44B0F?brand=anotherpl
 anet&camefrom=CFC_ANOTHERPLANET_web
CONTACT:
ORGANIZER;CN="Editor's Pick":http://trueskool.com/profile/RentheVinylA
 rchaeologist
ATTACH;FMTTYPE="image/jpeg":http://storage.ning.com/topology/rest/1.0/
 file/get/2247984614?profile=original
ATTENDEE;ROLE=REQ-PARTICIPANT;PARTSTAT=ACCEPTED;RSVP=TRUE;CN="Editor's
  Pick":http://trueskool.com/profile/RentheVinylArchaeologist
END:VEVENT
END:VCALENDAR
