BEGIN:VCALENDAR
PRODID:NingEventWidget-v1
VERSION:2.0
METHOD:PUBLISH
BEGIN:VTIMEZONE
TZID:America/Los_Angeles
X-LIC-LOCATION:America/Los_Angeles
BEGIN:DAYLIGHT
TZOFFSETFROM:-0800
TZOFFSETTO:-0700
TZNAME:PDT
DTSTART:19700308T020000
RRULE:FREQ=YEARLY;BYMONTH=3;BYDAY=2SU
END:DAYLIGHT
BEGIN:STANDARD
TZOFFSETFROM:-0700
TZOFFSETTO:-0800
TZNAME:PST
DTSTART:19701101T020000
RRULE:FREQ=YEARLY;BYMONTH=11;BYDAY=1SU
END:STANDARD
END:VTIMEZONE
BEGIN:VEVENT
UID:1464587:Event:53142
DTSTAMP:20260421T112114Z
SUMMARY:Maxwell & Jill Scott
DESCRIPTION:Friday June 4th\nMaxwell\nJill Scott\n\nOracle Arena, 7000
  Coliseum Way, Oakland\ndoors at 7pm\ntickets $58.50 - $144.25\nBuy Ti
 ckets:\nhttp://www.ticketmaster.com/event/1C00446803B65D4B\n\n \n\n\n\
 nFor more information visit http://trueskool.com/events/maxwell-jill-s
 cott
DTSTART;TZID=America/Los_Angeles:20100604T190000
DTEND;TZID=America/Los_Angeles:20100605T000000
CATEGORIES:"r&b", funk
LOCATION:Oracle Arena, Oakland, CA
WEBSITE:http://www.ticketmaster.com/event/1C00446803B65D4B
URL:http://www.ticketmaster.com/event/1C00446803B65D4B
CONTACT:
ORGANIZER;CN="Editor's Pick":http://trueskool.com/profile/RentheVinylA
 rchaeologist
ATTACH;FMTTYPE="image/jpeg":http://storage.ning.com/topology/rest/1.0/
 file/get/2247876713?profile=original
ATTENDEE;ROLE=REQ-PARTICIPANT;PARTSTAT=ACCEPTED;RSVP=TRUE;CN="Editor's
  Pick":http://trueskool.com/profile/RentheVinylArchaeologist
END:VEVENT
END:VCALENDAR
