BEGIN:VCALENDAR
PRODID:NingEventWidget-v1
VERSION:2.0
METHOD:PUBLISH
BEGIN:VTIMEZONE
TZID:America/Los_Angeles
X-LIC-LOCATION:America/Los_Angeles
BEGIN:DAYLIGHT
TZOFFSETFROM:-0800
TZOFFSETTO:-0700
TZNAME:PDT
DTSTART:19700308T020000
RRULE:FREQ=YEARLY;BYMONTH=3;BYDAY=2SU
END:DAYLIGHT
BEGIN:STANDARD
TZOFFSETFROM:-0700
TZOFFSETTO:-0800
TZNAME:PST
DTSTART:19701101T020000
RRULE:FREQ=YEARLY;BYMONTH=11;BYDAY=1SU
END:STANDARD
END:VTIMEZONE
BEGIN:VEVENT
UID:1464587:Event:275827
DTSTAMP:20260420T162145Z
SUMMARY:Masters of Ceremony (NYC)
DESCRIPTION:\nMasters of Ceremony  \nDetails: Masters of  Ceremony
 , DMX, Epmd, Rakim,Naughty By Nature, Brand Nubian.\n\n Radio  C
 ity      Music  Hall New  York, NY\nFri, 01/24/1408:00 PM\n Fi
 nd    Tickets »\n\n\n\n\nFor more information visit http://truesko
 ol.com/events/masters-of-ceremony-nyc
DTSTART;TZID=America/Los_Angeles:20140124T200000
DTEND;TZID=America/Los_Angeles:20140124T230000
CATEGORIES:nyc
LOCATION:Radio City Music Hall, New York
WEBSITE:http://www.ticketmaster.com/masters-of-ceremony-new-york-new-y
 ork-01-24-2014/event/1D004B650418E9B0?artistid=742697&majorcatid=10001
 &minorcatid=3&tm_link=search_msg-0_1D004B650418E9B0
URL:http://www.ticketmaster.com/masters-of-ceremony-new-york-new-york-
 01-24-2014/event/1D004B650418E9B0?artistid=742697&majorcatid=10001&min
 orcatid=3&tm_link=search_msg-0_1D004B650418E9B0
CONTACT:
ORGANIZER;CN="Editor's Pick":http://trueskool.com/profile/RentheVinylA
 rchaeologist
ATTACH;FMTTYPE="image/jpeg":http://storage.ning.com/topology/rest/1.0/
 file/get/2247954446?profile=original
ATTENDEE;ROLE=REQ-PARTICIPANT;PARTSTAT=ACCEPTED;RSVP=TRUE;CN="Editor's
  Pick":http://trueskool.com/profile/RentheVinylArchaeologist
END:VEVENT
END:VCALENDAR
