BEGIN:VCALENDAR
PRODID:NingEventWidget-v1
VERSION:2.0
METHOD:PUBLISH
BEGIN:VTIMEZONE
TZID:America/Los_Angeles
X-LIC-LOCATION:America/Los_Angeles
BEGIN:DAYLIGHT
TZOFFSETFROM:-0800
TZOFFSETTO:-0700
TZNAME:PDT
DTSTART:19700308T020000
RRULE:FREQ=YEARLY;BYMONTH=3;BYDAY=2SU
END:DAYLIGHT
BEGIN:STANDARD
TZOFFSETFROM:-0700
TZOFFSETTO:-0800
TZNAME:PST
DTSTART:19701101T020000
RRULE:FREQ=YEARLY;BYMONTH=11;BYDAY=1SU
END:STANDARD
END:VTIMEZONE
BEGIN:VEVENT
UID:1464587:Event:337852
DTSTAMP:20260421T065505Z
SUMMARY:MASTER MIX featuring DJ Ball-D and Ren the Vinyl Archaeologist
DESCRIPTION:\nSATURDAY APR 12 MASTER MIX  Come socialize, eat, dance, 
 and drink inside Lukas Taproom with dope Hip-Hop, Dancehall, R&B, And 
 Todays Club Hits provided by Ren The Vinyl Archaeologist & DJ Ball-D  
 at Luka's Lounge, 2221 Broadway, Oakland 10pm-2am | 21+ | $5 BEFORE 11
 PM More info: https://www.facebook.com/events/499149863523977\n\nFor m
 ore information visit http://trueskool.com/events/master-mix-featuring
 -dj-ball-d-and-ren-the-vinyl-archaeologist
DTSTART;TZID=America/Los_Angeles:20140412T220000
DTEND;TZID=America/Los_Angeles:20140413T140000
CATEGORIES:"bay area", oakland
LOCATION:Luka's Taproom and Lounge, Oakland
WEBSITE:https://www.facebook.com/events/499149863523977/
URL:https://www.facebook.com/events/499149863523977/
CONTACT:
ORGANIZER:Luka's Lounge
ATTACH;FMTTYPE="image/jpeg":http://storage.ning.com/topology/rest/1.0/
 file/get/2247961004?profile=original
ATTENDEE;ROLE=REQ-PARTICIPANT;PARTSTAT=ACCEPTED;RSVP=TRUE;CN="Staff Pi
 ck":http://trueskool.com/profile/Ren
END:VEVENT
END:VCALENDAR
