BEGIN:VCALENDAR
PRODID:NingEventWidget-v1
VERSION:2.0
METHOD:PUBLISH
BEGIN:VTIMEZONE
TZID:America/Los_Angeles
X-LIC-LOCATION:America/Los_Angeles
BEGIN:DAYLIGHT
TZOFFSETFROM:-0800
TZOFFSETTO:-0700
TZNAME:PDT
DTSTART:19700308T020000
RRULE:FREQ=YEARLY;BYMONTH=3;BYDAY=2SU
END:DAYLIGHT
BEGIN:STANDARD
TZOFFSETFROM:-0700
TZOFFSETTO:-0800
TZNAME:PST
DTSTART:19701101T020000
RRULE:FREQ=YEARLY;BYMONTH=11;BYDAY=1SU
END:STANDARD
END:VTIMEZONE
BEGIN:VEVENT
UID:1464587:Event:644954
DTSTAMP:20260420T152645Z
SUMMARY:Masta Ace w/Stricklin & Wake Self Live in Oakland, CA!
DESCRIPTION:ENTER TO WIN A PAIR OF TICKETS. WINNER WILL BE DRAWN RANDO
 MLY AND ANNOUNCED 2 DAYS PRIOR TO EVENT.  \n\nFRIDAY, APR 8\nShadow 
 Ultra Lounge is proud to present  The Hip Hop Since Way Back Official 
 Launch Party featuring Masta Ace w/ Stricklin Live in Oakland\n In con
 junction with Q102 FM's Q-Munity Corner, this will be an evening fille
 d with awesome talent and that feel good Hip Hop.  Wake Self w/DJ Youn
 g Native & Def i out of Albuquerque, NM will also be performing songs 
 from the new album Malala  Special Guest: Sacramento's own Kali Street
 z w/Dean Martin  PLUS Providing that feel good music: DJ Walt Liquor 
 (Q102)\n @ Shadow Ultra Lounge, Oakland Tickets available at: www.Mast
 aAce.Eventbrite.com\n  Masta Ace made his recording debut as on the Hi
 p Hop posse-cut \"The Symphony\", along with fellow Juice Crew members
  Craig G, Kool G Rap and Big Daddy Kane, released on Marley Marl's In 
 Control album. The album also featured two additional Ace tracks, \"Ke
 ep Your Eyes on the Prize\" and \"Simon Says\". In 1989, he released h
 is first solo single, \"Together\" b/w \"Letter to the Better\". His d
 ebut album, Take a Look Around, was released through Marl's Cold Chill
 in' label in 1990, featuring production from Marl and DJ Mister Cee. T
 he album featured two minor hit singles in \"Music Man\" and \"Me & Th
 e Biz\", the latter being a track with Ace's impersonation of Biz Mark
 ie, rather than a duet as previously thought the song would be. Contin
 ued in detail at https://en.wikipedia.org/wiki/Masta_Ace  It’s nearl
 y impossible to describe the intense commitment and passion Wake Self 
 has for hip-hop. Since the beginning of the new millennium, Wake has p
 layed an integral role in Albuquerque’s hip-hop scene, but now his s
 ights are set on the world. With two European tours under his belt, he
 ’s just begun to scratch the surface of what he can do with his musi
 c. For the past decade, he has worked tirelessly to establish himself 
 among the hip-hop elite. From work with his hip-hop band, Zoology, to 
 his recent solo ventures, Martinez always has both hands in hip-hop.  
 Walt Liquor was born and raised in the San Francisco Bay Area. In his 
 short time on this planet, he has played many roles in the music scene
 . As the artist/ producer, Eclipse 427, he was instrumental in the for
 mation of the Bay Area indie hip­hop explosion of the late 90s. The f
 oundation he helped to lay became the platform for artists like Murs a
 nd, The Grouch of the Living Legends, Hobo Junction, Zion­I and score
 s of others.Continued in detail at http://waltliquor.com/about/\n\nFor
  more information visit http://trueskool.com/events/masta-ace-w-strick
 lin-wake-self-live-in-oakland-ca
DTSTART;TZID=America/Los_Angeles:20160408T210000
DTEND;TZID=America/Los_Angeles:20160409T020000
CATEGORIES:oakland, east, bay, town, business
LOCATION:Shadow Ultra Lounge
WEBSITE:http://www.MastaAce.Eventbrite.com
URL:http://www.MastaAce.Eventbrite.com
CONTACT:(510) 839-1999
ORGANIZER;CN="True Justice":http://trueskool.com/profile/TrueJustice
ATTACH;FMTTYPE="image/jpeg":http://storage.ning.com/topology/rest/1.0/
 file/get/2247987811?profile=original
ATTENDEE;ROLE=REQ-PARTICIPANT;PARTSTAT=ACCEPTED;RSVP=TRUE;CN="True Jus
 tice":http://trueskool.com/profile/TrueJustice
END:VEVENT
END:VCALENDAR
