BEGIN:VCALENDAR
PRODID:NingEventWidget-v1
VERSION:2.0
METHOD:PUBLISH
BEGIN:VTIMEZONE
TZID:America/Los_Angeles
X-LIC-LOCATION:America/Los_Angeles
BEGIN:DAYLIGHT
TZOFFSETFROM:-0800
TZOFFSETTO:-0700
TZNAME:PDT
DTSTART:19700308T020000
RRULE:FREQ=YEARLY;BYMONTH=3;BYDAY=2SU
END:DAYLIGHT
BEGIN:STANDARD
TZOFFSETFROM:-0700
TZOFFSETTO:-0800
TZNAME:PST
DTSTART:19701101T020000
RRULE:FREQ=YEARLY;BYMONTH=11;BYDAY=1SU
END:STANDARD
END:VTIMEZONE
BEGIN:VEVENT
UID:1464587:Event:499234
DTSTAMP:20260420T165926Z
SUMMARY:\"MASSIVE\" Saturdays - HOLIDAY JUMP OFF!
DESCRIPTION: SATURDAY DECEMBER 20TH \nYard Slap & DJ GREEN B Present:\
 n\"MASSIVE\" Saturdays - HOLIDAY JUMP OFF!\nw/ Massive Bay Area DJ Lin
 eup: DJ SERG \nGREEN B\nAEBLDEE \nSMOKE-ONE \nMR LUCKY \nDJAY SLIM\n& 
 DJ Atreau PON DI EARLY WARM!\nDROPPIN ALL YOUR FAVORITE  *DANCEHALL*HI
 PHOP*AFRICAN*BASS MUSIC\nAT THE BRAND NEW BERKELEY UNDERGOUND! 2284 Sh
 attuck Ave & Bancroft, Berkeley\nDOORS OPEN AT 9Pm\nFREE B4 10:30 & $1
 0 AFTER\nFormerly the Shattuck Down Low, the Undergound went through a
  million dollar redo! Complete with booth/bottle service, smoking pati
 o, & brand new sound system!\n\nFor more information visit http://true
 skool.com/events/massive-saturdays-holiday-jump-off
DTSTART;TZID=America/Los_Angeles:20141220T220000
DTEND;TZID=America/Los_Angeles:20141221T020000
CATEGORIES:"bay area", berkeley
LOCATION:Berkeley Underground, Berkeley, CA
WEBSITE:https://www.facebook.com/events/1552482661660707
URL:https://www.facebook.com/events/1552482661660707
CONTACT:
ORGANIZER:Yard Slap & DJ GREEN B
ATTACH;FMTTYPE="image/jpeg":http://storage.ning.com/topology/rest/1.0/
 file/get/2247972075?profile=original
ATTENDEE;ROLE=REQ-PARTICIPANT;PARTSTAT=ACCEPTED;RSVP=TRUE;CN="Editor's
  Pick":http://trueskool.com/profile/RentheVinylArchaeologist
ATTENDEE;ROLE=REQ-PARTICIPANT;PARTSTAT=TENTATIVE;RSVP=TRUE;CN=Kimberly
 :http://trueskool.com/profile/Kimberly
END:VEVENT
END:VCALENDAR
