BEGIN:VCALENDAR
PRODID:NingEventWidget-v1
VERSION:2.0
METHOD:PUBLISH
BEGIN:VTIMEZONE
TZID:America/Los_Angeles
X-LIC-LOCATION:America/Los_Angeles
BEGIN:DAYLIGHT
TZOFFSETFROM:-0800
TZOFFSETTO:-0700
TZNAME:PDT
DTSTART:19700308T020000
RRULE:FREQ=YEARLY;BYMONTH=3;BYDAY=2SU
END:DAYLIGHT
BEGIN:STANDARD
TZOFFSETFROM:-0700
TZOFFSETTO:-0800
TZNAME:PST
DTSTART:19701101T020000
RRULE:FREQ=YEARLY;BYMONTH=11;BYDAY=1SU
END:STANDARD
END:VTIMEZONE
BEGIN:VEVENT
UID:1464587:Event:688170
DTSTAMP:20260421T005834Z
SUMMARY:MARTIN LUTHER
DESCRIPTION:ENTER TO WIN A PAIR OF TICKETS. WINNER WILL BE DRAWN RANDO
 MLY AND ANNOUNCED 2 DAYS PRIOR TO EVENT.\r\n\r\n\r\n\r\nSun, August 18
 , 2019\r\nMARTIN LUTHER\r\n\r\n Yoshi's Oakland\r\n 510 Embarcadero We
 st\r\n Oakland, CA 94607\r\nDoors: 6:30 PM / Show: 7:00 PM\r\n $24.00 
 - $49.00\r\n>> BUY TICKETS\r\n\r\n\r\n\n\nFor more information visit h
 ttp://trueskool.com/events/martin-luther-2
DTSTART;TZID=America/Los_Angeles:20190818T190000
DTEND;TZID=America/Los_Angeles:20190818T210000
CATEGORIES:"bay area", oakland, "san francisco", "san jose", berkeley
LOCATION:Yoshi's , Oakland
WEBSITE:https://www.ticketfly.com/purchase/event/1859080?_ga=2.9210850
 6.1996960619.1559643167-353706455.1559643166
URL:https://www.ticketfly.com/purchase/event/1859080?_ga=2.92108506.19
 96960619.1559643167-353706455.1559643166
CONTACT:
ORGANIZER:Yoshi's
ATTACH;FMTTYPE="image/jpeg":https://storage.ning.com/topology/rest/1.0
 /file/get/2751291089?profile=original
ATTENDEE;ROLE=REQ-PARTICIPANT;PARTSTAT=ACCEPTED;RSVP=TRUE;CN="James Mi
 chael Federighi":http://trueskool.com/profile/JamesMichaelFederighi
ATTENDEE;ROLE=REQ-PARTICIPANT;PARTSTAT=ACCEPTED;RSVP=TRUE;CN="Editor's
  Pick":http://trueskool.com/profile/RentheVinylArchaeologist
END:VEVENT
END:VCALENDAR
