BEGIN:VCALENDAR
PRODID:NingEventWidget-v1
VERSION:2.0
METHOD:PUBLISH
BEGIN:VTIMEZONE
TZID:America/Los_Angeles
X-LIC-LOCATION:America/Los_Angeles
BEGIN:DAYLIGHT
TZOFFSETFROM:-0800
TZOFFSETTO:-0700
TZNAME:PDT
DTSTART:19700308T020000
RRULE:FREQ=YEARLY;BYMONTH=3;BYDAY=2SU
END:DAYLIGHT
BEGIN:STANDARD
TZOFFSETFROM:-0700
TZOFFSETTO:-0800
TZNAME:PST
DTSTART:19701101T020000
RRULE:FREQ=YEARLY;BYMONTH=11;BYDAY=1SU
END:STANDARD
END:VTIMEZONE
BEGIN:VEVENT
UID:1464587:Event:314336
DTSTAMP:20260421T020622Z
SUMMARY:Marsha Ambrosius (Atlanta)
DESCRIPTION:\nMarsha Ambrosius\n\n\n\nCenter Stage TheatreAtlanta, GA
 \n\nSun, 04/06/14 08:00 PM\n\nFind Tickets »\n\n\n\n\n\nFor more inf
 ormation visit http://trueskool.com/events/marsha-ambrosius
DTSTART;TZID=America/Los_Angeles:20140406T200000
DTEND;TZID=America/Los_Angeles:20140406T230000
CATEGORIES:atlanta
LOCATION:Center Stage Theatre, Atlanta
WEBSITE:http://www.ticketmaster.com/marsha-ambrosius-atlanta-georgia-0
 4-06-2014/event/0E004C3EF7814E40?artistid=1517625&majorcatid=10001&min
 orcatid=202&tm_link=artist_msg-0_0E004C3EF7814E40
URL:http://www.ticketmaster.com/marsha-ambrosius-atlanta-georgia-04-06
 -2014/event/0E004C3EF7814E40?artistid=1517625&majorcatid=10001&minorca
 tid=202&tm_link=artist_msg-0_0E004C3EF7814E40
CONTACT:
ORGANIZER;CN="Editor's Pick":http://trueskool.com/profile/RentheVinylA
 rchaeologist
ATTACH;FMTTYPE="image/jpeg":http://storage.ning.com/topology/rest/1.0/
 file/get/2247957260?profile=original
ATTENDEE;ROLE=REQ-PARTICIPANT;PARTSTAT=ACCEPTED;RSVP=TRUE;CN="Editor's
  Pick":http://trueskool.com/profile/RentheVinylArchaeologist
END:VEVENT
END:VCALENDAR
