BEGIN:VCALENDAR
PRODID:NingEventWidget-v1
VERSION:2.0
METHOD:PUBLISH
BEGIN:VTIMEZONE
TZID:America/Los_Angeles
X-LIC-LOCATION:America/Los_Angeles
BEGIN:DAYLIGHT
TZOFFSETFROM:-0800
TZOFFSETTO:-0700
TZNAME:PDT
DTSTART:19700308T020000
RRULE:FREQ=YEARLY;BYMONTH=3;BYDAY=2SU
END:DAYLIGHT
BEGIN:STANDARD
TZOFFSETFROM:-0700
TZOFFSETTO:-0800
TZNAME:PST
DTSTART:19701101T020000
RRULE:FREQ=YEARLY;BYMONTH=11;BYDAY=1SU
END:STANDARD
END:VTIMEZONE
BEGIN:VEVENT
UID:1464587:Event:276154
DTSTAMP:20260420T200458Z
SUMMARY:Marsha Ambrosius (NYC)
DESCRIPTION:\nMarsha Ambrosius Friends & Lovers Album Release\n\nS.O.B
 .'s\nNew York, NY\n\n Mon,  01/20/14  09:00 PM\nFind Tickets \n\
 n\n\n\nFor more information visit http://trueskool.com/events/marsha-a
 mbrosius-nyc
DTSTART;TZID=America/Los_Angeles:20140120T210000
DTEND;TZID=America/Los_Angeles:20140121T230000
CATEGORIES:nyc
LOCATION:S.O.B.'s, New York
WEBSITE:http://www.ticketmaster.com/partner_redirect?v=sj8crmnvSHsqRda
 -GosBwUUG8pYLp3GMcMbQIyRS50_Jb0FSimfAJyf1Erv-xoT8VMbIa3UeaDu7VpfSnTSNC
 _ihQFjFr2v8lcBWjsEBIHkGDFEQNcr0dw4SXV9U3SOvr70tUTfrGXxzSpFriSb6tNQe50G
 1l9qp1Eb53fyxKHMxeUJ1NgDobZreg_0x4KC0NgIWTyddYpwyTwIbSA&eventid=29004B
 651D8143B8&artistid=1934585&artistname=Marsha%20Ambrosius%20Friends%20
 &%20Lovers%20Album%20Release&crosssite=TM_US:1934585:104http://www.tic
 ketmaster.com/partner_redirect?v=sj8crmnvSHsqRda-GosBwUUG8pYLp3GMcMbQI
 yRS50_Jb0FSimfAJyf
URL:http://www.ticketmaster.com/partner_redirect?v=sj8crmnvSHsqRda-Gos
 BwUUG8pYLp3GMcMbQIyRS50_Jb0FSimfAJyf1Erv-xoT8VMbIa3UeaDu7VpfSnTSNC_ihQ
 FjFr2v8lcBWjsEBIHkGDFEQNcr0dw4SXV9U3SOvr70tUTfrGXxzSpFriSb6tNQe50G1l9q
 p1Eb53fyxKHMxeUJ1NgDobZreg_0x4KC0NgIWTyddYpwyTwIbSA&eventid=29004B651D
 8143B8&artistid=1934585&artistname=Marsha%20Ambrosius%20Friends%20&%20
 Lovers%20Album%20Release&crosssite=TM_US:1934585:104http://www.ticketm
 aster.com/partner_redirect?v=sj8crmnvSHsqRda-GosBwUUG8pYLp3GMcMbQIyRS5
 0_Jb0FSimfAJyf
CONTACT:
ORGANIZER;CN="Editor's Pick":http://trueskool.com/profile/RentheVinylA
 rchaeologist
ATTACH;FMTTYPE="image/jpeg":http://storage.ning.com/topology/rest/1.0/
 file/get/2247954400?profile=original
ATTENDEE;ROLE=REQ-PARTICIPANT;PARTSTAT=ACCEPTED;RSVP=TRUE;CN="Editor's
  Pick":http://trueskool.com/profile/RentheVinylArchaeologist
END:VEVENT
END:VCALENDAR
