BEGIN:VCALENDAR
PRODID:NingEventWidget-v1
VERSION:2.0
METHOD:PUBLISH
BEGIN:VTIMEZONE
TZID:America/Los_Angeles
X-LIC-LOCATION:America/Los_Angeles
BEGIN:DAYLIGHT
TZOFFSETFROM:-0800
TZOFFSETTO:-0700
TZNAME:PDT
DTSTART:19700308T020000
RRULE:FREQ=YEARLY;BYMONTH=3;BYDAY=2SU
END:DAYLIGHT
BEGIN:STANDARD
TZOFFSETFROM:-0700
TZOFFSETTO:-0800
TZNAME:PST
DTSTART:19701101T020000
RRULE:FREQ=YEARLY;BYMONTH=11;BYDAY=1SU
END:STANDARD
END:VTIMEZONE
BEGIN:VEVENT
UID:1464587:Event:317940
DTSTAMP:20260421T052734Z
SUMMARY:Marsha Ambrosius (Los Angeles)
DESCRIPTION:\nMarsha Ambrosius : Friends & Lovers Tour\n\n\nDetails: 
 Marsha Ambrosius\n\n\nGaslamp - Music. Bar. Kitchen.Long Beach, CA\n\
 nThu, 04/17/1408:00 PM\n\nFind Tickets »\n\n\n\n\n\nFor more informa
 tion visit http://trueskool.com/events/marsha-ambrosius-los-angeles
DTSTART;TZID=America/Los_Angeles:20140417T200000
DTEND;TZID=America/Los_Angeles:20140417T230000
CATEGORIES:"los angeles"
LOCATION:Gaslamp - Music. Bar. Kitchen., Los Angeles
WEBSITE:http://www.ticketmaster.com/partner_redirect?v=QAlVs7SheGztmuU
 oZaOCbHqpBHvrW6VenjjGyAhQazxbAeMujfn6mVoRj5qlW5LaiielKkty6CDtgmjwp75Ax
 qrf4X4flDn2oZ0lcow9YoJMAnXTVE9TfD0boGTxQw8b1SahJbsfHc-dYg0O2vFJrvSzSPm
 1IaDxiHXYLmxRFT0XpGAYv_OfmBcFTVJnuqFH8-QSC-OFDg2yJuw8AA&eventid=29004C
 3E21846FBB&artistid=1517625&artistname=Marsha%20Ambrosius%20:%20Friend
 s%20&%20Lovers%20Tour&crosssite=TM_US:1517625:337062
URL:http://www.ticketmaster.com/partner_redirect?v=QAlVs7SheGztmuUoZaO
 CbHqpBHvrW6VenjjGyAhQazxbAeMujfn6mVoRj5qlW5LaiielKkty6CDtgmjwp75Axqrf4
 X4flDn2oZ0lcow9YoJMAnXTVE9TfD0boGTxQw8b1SahJbsfHc-dYg0O2vFJrvSzSPm1IaD
 xiHXYLmxRFT0XpGAYv_OfmBcFTVJnuqFH8-QSC-OFDg2yJuw8AA&eventid=29004C3E21
 846FBB&artistid=1517625&artistname=Marsha%20Ambrosius%20:%20Friends%20
 &%20Lovers%20Tour&crosssite=TM_US:1517625:337062
CONTACT:
ORGANIZER;CN="Editor's Pick":http://trueskool.com/profile/RentheVinylA
 rchaeologist
ATTACH;FMTTYPE="image/jpeg":http://storage.ning.com/topology/rest/1.0/
 file/get/2247957260?profile=original
ATTENDEE;ROLE=REQ-PARTICIPANT;PARTSTAT=ACCEPTED;RSVP=TRUE;CN="Editor's
  Pick":http://trueskool.com/profile/RentheVinylArchaeologist
END:VEVENT
END:VCALENDAR
