BEGIN:VCALENDAR
PRODID:NingEventWidget-v1
VERSION:2.0
METHOD:PUBLISH
BEGIN:VTIMEZONE
TZID:America/Los_Angeles
X-LIC-LOCATION:America/Los_Angeles
BEGIN:DAYLIGHT
TZOFFSETFROM:-0800
TZOFFSETTO:-0700
TZNAME:PDT
DTSTART:19700308T020000
RRULE:FREQ=YEARLY;BYMONTH=3;BYDAY=2SU
END:DAYLIGHT
BEGIN:STANDARD
TZOFFSETFROM:-0700
TZOFFSETTO:-0800
TZNAME:PST
DTSTART:19701101T020000
RRULE:FREQ=YEARLY;BYMONTH=11;BYDAY=1SU
END:STANDARD
END:VTIMEZONE
BEGIN:VEVENT
UID:1464587:Event:450600
DTSTAMP:20260420T214424Z
SUMMARY:Marsha Ambrosius [LA]
DESCRIPTION:\nMarsha Ambrosius\n\n\n\nCity National Grove of AnaheimAn
 aheim, CA\n\nSat, 11/29/1408:00 PM\n\n\n\n\n\nFor more information vi
 sit http://trueskool.com/events/marsha-ambrosius-la
DTSTART;TZID=America/Los_Angeles:20141129T200000
DTEND;TZID=America/Los_Angeles:20141129T230000
CATEGORIES:"los angeles"
LOCATION:City National Grove of Anaheim
WEBSITE:http://www.ticketmaster.com/marsha-ambrosius-anaheim-californi
 a-11-29-2014/event/09004D43DE7FB3C7?artistid=1517625&majorcatid=10001&
 minorcatid=202&tm_link=browse_msg-0_09004D43DE7FB3C7
URL:http://www.ticketmaster.com/marsha-ambrosius-anaheim-california-11
 -29-2014/event/09004D43DE7FB3C7?artistid=1517625&majorcatid=10001&mino
 rcatid=202&tm_link=browse_msg-0_09004D43DE7FB3C7
CONTACT:
ORGANIZER;CN="Editor's Pick":http://trueskool.com/profile/RentheVinylA
 rchaeologist
ATTACH;FMTTYPE="image/jpeg":http://storage.ning.com/topology/rest/1.0/
 file/get/2247969543?profile=original
ATTENDEE;ROLE=REQ-PARTICIPANT;PARTSTAT=ACCEPTED;RSVP=TRUE;CN="Editor's
  Pick":http://trueskool.com/profile/RentheVinylArchaeologist
END:VEVENT
END:VCALENDAR
