BEGIN:VCALENDAR
PRODID:NingEventWidget-v1
VERSION:2.0
METHOD:PUBLISH
BEGIN:VTIMEZONE
TZID:America/Los_Angeles
X-LIC-LOCATION:America/Los_Angeles
BEGIN:DAYLIGHT
TZOFFSETFROM:-0800
TZOFFSETTO:-0700
TZNAME:PDT
DTSTART:19700308T020000
RRULE:FREQ=YEARLY;BYMONTH=3;BYDAY=2SU
END:DAYLIGHT
BEGIN:STANDARD
TZOFFSETFROM:-0700
TZOFFSETTO:-0800
TZNAME:PST
DTSTART:19701101T020000
RRULE:FREQ=YEARLY;BYMONTH=11;BYDAY=1SU
END:STANDARD
END:VTIMEZONE
BEGIN:VEVENT
UID:1464587:Event:661154
DTSTAMP:20260420T200319Z
SUMMARY:Marsha Ambrosius
DESCRIPTION:Marsha Ambrosius and Eric Benét\n\nTue, June 6, 2017\nDoo
 rs: 7:30 PM / Show: 8:00 PM Yoshi's Oakland Oakland, CA $49.00 - $85.0
 0\nDoors: 9:45 PM / Show: 10:00 PM Yoshi's Oakland Oakland, CA $49.00\
 nWed, June 7, 2017\nDoors: 7:30 PM / Show: 8:00 PM Yoshi's Oakland Oak
 land, CA $54.00 - $85.00\nDoors: 9:45 PM / Show: 10:00 PM Yoshi's Oakl
 and Oakland, CA $54.00\nThu, June 8, 2017\nDoors: 7:30 PM / Show: 8:
 00 PM\nYoshi's Oakland\nOakland, CA\n$54.00 - $95.00\n\nThu, June 8, 2
 017 Doors: 9:45 PM / Show: 10:00 PM Yoshi's Oakland Oakland, CA $54.00
 \n\n\n\nFor more information visit http://trueskool.com/events/marsha-
 ambrosius-1
DTSTART;TZID=America/Los_Angeles:20170606T200000
DTEND;TZID=America/Los_Angeles:20170608T233000
CATEGORIES:"san francisco", oakland, berkley, "san jose", "bay area"
LOCATION:Yoshi's, Oakland
WEBSITE:http://www.yoshis.com/search/?q=Marsha%20Ambrosius%20and%20Eri
 c%20Ben%C3%A9t
URL:http://www.yoshis.com/search/?q=Marsha%20Ambrosius%20and%20Eric%20
 Ben%C3%A9t
CONTACT:
ORGANIZER;CN="Editor's Pick":http://trueskool.com/profile/RentheVinylA
 rchaeologist
ATTACH;FMTTYPE="image/jpeg":http://storage.ning.com/topology/rest/1.0/
 file/get/2247994968?profile=original
ATTENDEE;ROLE=REQ-PARTICIPANT;PARTSTAT=ACCEPTED;RSVP=TRUE;CN="Editor's
  Pick":http://trueskool.com/profile/RentheVinylArchaeologist
END:VEVENT
END:VCALENDAR
