BEGIN:VCALENDAR
PRODID:NingEventWidget-v1
VERSION:2.0
METHOD:PUBLISH
BEGIN:VTIMEZONE
TZID:America/Los_Angeles
X-LIC-LOCATION:America/Los_Angeles
BEGIN:DAYLIGHT
TZOFFSETFROM:-0800
TZOFFSETTO:-0700
TZNAME:PDT
DTSTART:19700308T020000
RRULE:FREQ=YEARLY;BYMONTH=3;BYDAY=2SU
END:DAYLIGHT
BEGIN:STANDARD
TZOFFSETFROM:-0700
TZOFFSETTO:-0800
TZNAME:PST
DTSTART:19701101T020000
RRULE:FREQ=YEARLY;BYMONTH=11;BYDAY=1SU
END:STANDARD
END:VTIMEZONE
BEGIN:VEVENT
UID:1464587:Event:662917
DTSTAMP:20260421T011425Z
SUMMARY:Mark Oshiro and Denise Benavides at Writers With Drinks!
DESCRIPTION:The party don't stop as long as there are books that rock.
  Writers With Drinks is back, with an amazing blend of literary weirdn
 ess, queer science fiction, airships AND Mafia history. Don't miss it!
   When: Saturday, June 10, 2017 from 7:30 PM to 9:30 PM, doors open 6:
 30 PM Who: Glen David Gold, Mark Oshiro, Robyn Bennis, Christina Ann M
 arie DiEdoardo and Denise Benavides! How much: $5 to $20, all proceeds
  benefit Westside's AIDS Case Management program, plus the Center for 
 Sex & Culture Where: The Make Out Room, 3225 22nd. St., San Francisco,
  CA  About the readers/performers:  Glen David Gold's's three-volume m
 emoir, I Will Be Complete, is forthcoming in 2018. He's also the autho
 r of the novels Carter Beats the Devil and Sunnyside. His essays and s
 hort fiction have appeared in McSweeney's, Playboy, New York Times Sun
 day Magazine, Tin House, Wired and Zyzzyva.   Mark Oshiro is the Hugo-
 nominated writer of the online Mark Does Stuff universe (Mark Reads an
 d Mark Watches), where he analyzes book and television series unspoile
 d, largely in the SF/F genres. He was the nonfiction editor of Queers 
 Destroy Science Fiction!. He's the author of a forthcoming YA novel.  
 Denise Benavides is a queer xicana performance artist, poet, and educa
 tor based in Oakland, California. She uses the stage/page to confront 
 themes of xenophobia, relocation, sexuality, religion, and love. Alway
 s, love. She holds an MFA in Creative Writing from Mills College and i
 s currently teaching at Skyline College. Her debut collection of poetr
 y, Split, was released in the fall of 2016 by Kórima Press.  Robyn Be
 nnis is the author of The Guns Above. She's a scientist living in Moun
 tain View, California, where she works in biotech but dreams of airshi
 ps. She has done research and development involving human gene express
 ion, neural connectomics, cancer diagnostics, rapid flu testing, gene 
 synthesis, genome sequencing, being so preoccupied with whether she co
 uld that she never stopped to think if she should, and systems integra
 tion.   Christina Ann-Marie DiEdoardo is the author of Lanza's Mob: Th
 e Mafia and San Francisco. She's a criminal defense lawyer working in 
 SF. She was part of the team of activists and lawyers who secured the 
 repeal in 1998 of San Diego Municipal Code 56.19, the last enforced cr
 iminal ordinance in a major American city which targeted transgender p
 eople for appearing in public. She's the only openly transgender attor
 ney licensed to practice law in the state of Nevada, and she crafted t
 he procedure for Nevada courts to grant legal name and gender changes,
  which is still being used, with some modifications, to this day.  Abo
 ut Writers With Drinks:  Writers With Drinks has won numerous \"Best o
 fs\" from local newspapers, and has been mentioned in 7x7, Spin Magazi
 ne and one of Armistead Maupin's Tales of the City novels. The spoken 
 word \"variety show\" mixes genres to raise money for local causes. Th
 e award-winning show includes poetry, stand-up comedy, science fiction
 , fantasy, romance, mystery, literary fiction, erotica, memoir, zines 
 and blogs in a freewheeling format.\n\nFor more information visit http
 ://trueskool.com/events/mark-oshiro-and-denise-benavides-at-writers-wi
 th-drinks
DTSTART;TZID=America/Los_Angeles:20170610T193000
DTEND;TZID=America/Los_Angeles:20170610T213000
CATEGORIES:"san francisco", "bay area", sf, california
LOCATION:The Make Out Room, San Francisco, CA
WEBSITE:http://makeoutroom.com
URL:http://makeoutroom.com
CONTACT:415-647-2888
ORGANIZER;CN="Charlie Jane Anders":http://trueskool.com/profile/Charli
 eJaneAnders
ATTACH;FMTTYPE="image/jpeg":
ATTENDEE;ROLE=REQ-PARTICIPANT;PARTSTAT=ACCEPTED;RSVP=TRUE;CN="Charlie 
 Jane Anders":http://trueskool.com/profile/CharlieJaneAnders
END:VEVENT
END:VCALENDAR
