BEGIN:VCALENDAR
PRODID:NingEventWidget-v1
VERSION:2.0
METHOD:PUBLISH
BEGIN:VTIMEZONE
TZID:America/Los_Angeles
X-LIC-LOCATION:America/Los_Angeles
BEGIN:DAYLIGHT
TZOFFSETFROM:-0800
TZOFFSETTO:-0700
TZNAME:PDT
DTSTART:19700308T020000
RRULE:FREQ=YEARLY;BYMONTH=3;BYDAY=2SU
END:DAYLIGHT
BEGIN:STANDARD
TZOFFSETFROM:-0700
TZOFFSETTO:-0800
TZNAME:PST
DTSTART:19701101T020000
RRULE:FREQ=YEARLY;BYMONTH=11;BYDAY=1SU
END:STANDARD
END:VTIMEZONE
BEGIN:VEVENT
UID:1464587:Event:384509
DTSTAMP:20260423T042441Z
SUMMARY:Mark de Clive-Lowe's CHURCH: July LA Residency
DESCRIPTION:\"equal parts jazz club, live remix experiment and dance p
 arty\"...\nwe're bringing CHURCH to a super vibey underground downtown
  LA speakeasy for 4 Thursdays in a row through July! come join us for 
 this residency with very special guests joining each week on the bands
 tand and guest DJ spinning before, in-between and after the live sets.
 .. save the dates!\n\nTHURSDAY 3 JULY + DJ House Shoes (Street Corner 
 Music) + guests\nTHURSDAY 10 JULY + DJ Sean O (dublab/KPFK) + guests\n
 THURSDAY 17 JULY + DJ Destroyer (Ximeno Records/Umoja Hi-Fi)\nTHURSDAY
  24 JULY + DJ Badkiss (Manila, Philippines)\n\n9pm doors / guest DJ\n1
 0pm - first live set (mostly seated)\nmidnight - second live set (for 
 the dancefloor!)\n\nhttp://MdCL.tv\nPresale tickets link: http://www.
 fiftysevenla.com/downstairs\n#wepresentCHURCH\n\nFor more information 
 visit http://trueskool.com/events/mark-de-clive-lowe-s-church-july-la-
 residency
DTSTART;TZID=America/Los_Angeles:20140710T210000
DTEND;TZID=America/Los_Angeles:20140711T020000
CATEGORIES:los, angeles, dtla
LOCATION:Downstairs at Fifty Seven, Los Angeles
WEBSITE:http://www.fiftysevenla.com/downstairs
URL:http://www.fiftysevenla.com/downstairs
CONTACT:(213) 816-8157
ORGANIZER;CN="Mark de Clive-Lowe":http://trueskool.com/profile/MarkdeC
 liveLowe
ATTACH;FMTTYPE="image/jpeg":http://storage.ning.com/topology/rest/1.0/
 file/get/2247963437?profile=original
ATTENDEE;ROLE=REQ-PARTICIPANT;PARTSTAT=ACCEPTED;RSVP=TRUE;CN="Mark de 
 Clive-Lowe":http://trueskool.com/profile/MarkdeCliveLowe
END:VEVENT
END:VCALENDAR
