BEGIN:VCALENDAR
PRODID:NingEventWidget-v1
VERSION:2.0
METHOD:PUBLISH
BEGIN:VTIMEZONE
TZID:America/Los_Angeles
X-LIC-LOCATION:America/Los_Angeles
BEGIN:DAYLIGHT
TZOFFSETFROM:-0800
TZOFFSETTO:-0700
TZNAME:PDT
DTSTART:19700308T020000
RRULE:FREQ=YEARLY;BYMONTH=3;BYDAY=2SU
END:DAYLIGHT
BEGIN:STANDARD
TZOFFSETFROM:-0700
TZOFFSETTO:-0800
TZNAME:PST
DTSTART:19701101T020000
RRULE:FREQ=YEARLY;BYMONTH=11;BYDAY=1SU
END:STANDARD
END:VTIMEZONE
BEGIN:VEVENT
UID:1464587:Event:676514
DTSTAMP:20260420T201733Z
SUMMARY:Mamasan's Bistro Pop-Up @ Calle 11
DESCRIPTION:Mamasans Bistro Sf's favorite underground supper club come
 s above ground for a special pop-up at Calle 11\n\nFor more informatio
 n visit http://trueskool.com/events/mamasan-s-bistro-pop-up-calle-11
DTSTART;TZID=America/Los_Angeles:20180726T190000
DTEND;TZID=America/Los_Angeles:20180727T000000
CATEGORIES:sf, bay
LOCATION:Calle 11 SF
WEBSITE:http://mamasansbistro.com
URL:http://mamasansbistro.com
CONTACT:707-567-9790
ORGANIZER;CN="Radhika Lynette Kaplan":http://trueskool.com/profile/Rad
 hikaLynetteKaplan
ATTACH;FMTTYPE="image/jpeg":http://storage.ning.com/topology/rest/1.0/
 file/get/2248008310?profile=original
ATTENDEE;ROLE=REQ-PARTICIPANT;PARTSTAT=ACCEPTED;RSVP=TRUE;CN="Radhika 
 Lynette Kaplan":http://trueskool.com/profile/RadhikaLynetteKaplan
END:VEVENT
END:VCALENDAR
