BEGIN:VCALENDAR
PRODID:NingEventWidget-v1
VERSION:2.0
METHOD:PUBLISH
BEGIN:VTIMEZONE
TZID:America/Los_Angeles
X-LIC-LOCATION:America/Los_Angeles
BEGIN:DAYLIGHT
TZOFFSETFROM:-0800
TZOFFSETTO:-0700
TZNAME:PDT
DTSTART:19700308T020000
RRULE:FREQ=YEARLY;BYMONTH=3;BYDAY=2SU
END:DAYLIGHT
BEGIN:STANDARD
TZOFFSETFROM:-0700
TZOFFSETTO:-0800
TZNAME:PST
DTSTART:19701101T020000
RRULE:FREQ=YEARLY;BYMONTH=11;BYDAY=1SU
END:STANDARD
END:VTIMEZONE
BEGIN:VEVENT
UID:1464587:Event:654825
DTSTAMP:20260421T021429Z
SUMMARY:Majid Jordan After Party With DJ Set And Appearance
DESCRIPTION: WEDNESDAY, OCT 26 Majid Jordan After Party With DJ Set An
 d Appearance\n@ Social Hall, San Francisco, CA 11:00 PM Ages: All Age
 s >> BUY TICKETS\n\n\n\n\nFor more information visit http://trueskool.
 com/events/majid-jordan-after-party-with-dj-set-and-appearance
DTSTART;TZID=America/Los_Angeles:20161026T230000
DTEND;TZID=America/Los_Angeles:20161027T020000
CATEGORIES:"bay area", "san francisco"
LOCATION:Social Hall, San Francisco
WEBSITE:http://www.axs.com/events/326402/majid-jordan-after-party-with
 -dj-set-and-appearance-tickets
URL:http://www.axs.com/events/326402/majid-jordan-after-party-with-dj-
 set-and-appearance-tickets
CONTACT:
ORGANIZER:Goldenvoice
ATTACH;FMTTYPE="image/jpeg":http://storage.ning.com/topology/rest/1.0/
 file/get/2247993087?profile=original
ATTENDEE;ROLE=REQ-PARTICIPANT;PARTSTAT=ACCEPTED;RSVP=TRUE;CN="Editor's
  Pick":http://trueskool.com/profile/RentheVinylArchaeologist
END:VEVENT
END:VCALENDAR
