BEGIN:VCALENDAR
PRODID:NingEventWidget-v1
VERSION:2.0
METHOD:PUBLISH
BEGIN:VTIMEZONE
TZID:America/Los_Angeles
X-LIC-LOCATION:America/Los_Angeles
BEGIN:DAYLIGHT
TZOFFSETFROM:-0800
TZOFFSETTO:-0700
TZNAME:PDT
DTSTART:19700308T020000
RRULE:FREQ=YEARLY;BYMONTH=3;BYDAY=2SU
END:DAYLIGHT
BEGIN:STANDARD
TZOFFSETFROM:-0700
TZOFFSETTO:-0800
TZNAME:PST
DTSTART:19701101T020000
RRULE:FREQ=YEARLY;BYMONTH=11;BYDAY=1SU
END:STANDARD
END:VTIMEZONE
BEGIN:VEVENT
UID:1464587:Event:395925
DTSTAMP:20260421T020825Z
SUMMARY:Mad Decent Block Party
DESCRIPTION:\nVenue:\nThe Greek TheatreUC-Berkeley\n\nLocation:\nBerke
 ley, CA\n\nShow Date:\nFriday, September 19\n\nShow Time:\n6:00PM\n\nO
 n Sale Date:\nThursday, April 24\n\nTicket Price:\n$49.50 - General Ad
 mission$75.00 - VIP***plus applicable service fees**Exclusive VIP view
 ing area AND a priority VIP ticket entry point. Plus More TBA!\nTicket
 s are also available service charge free at The Fox Theater's Box Offi
 ce (located on the 19th street side of the theater) on show dates and 
 on Fridays from noon - 7:00pm.\n\n\n\n\n\nFor more information visit h
 ttp://trueskool.com/events/mad-decent-block-party
DTSTART;TZID=America/Los_Angeles:20140919T180000
DTEND;TZID=America/Los_Angeles:20140919T230000
CATEGORIES:"bay area, san francisco, oakland, berkley"
LOCATION:The Greek Theatre, Berkley
WEBSITE:http://SOLD OUT
URL:http://SOLD OUT
CONTACT:
ORGANIZER;CN="Editor's Pick":http://trueskool.com/profile/RentheVinylA
 rchaeologist
ATTACH;FMTTYPE="image/jpeg":http://storage.ning.com/topology/rest/1.0/
 file/get/2247964207?profile=original
ATTENDEE;ROLE=REQ-PARTICIPANT;PARTSTAT=ACCEPTED;RSVP=TRUE;CN="James Mi
 chael Federighi":http://trueskool.com/profile/JamesMichaelFederighi
ATTENDEE;ROLE=REQ-PARTICIPANT;PARTSTAT=ACCEPTED;RSVP=TRUE;CN="Editor's
  Pick":http://trueskool.com/profile/RentheVinylArchaeologist
END:VEVENT
END:VCALENDAR
