BEGIN:VCALENDAR
PRODID:NingEventWidget-v1
VERSION:2.0
METHOD:PUBLISH
BEGIN:VTIMEZONE
TZID:America/Los_Angeles
X-LIC-LOCATION:America/Los_Angeles
BEGIN:DAYLIGHT
TZOFFSETFROM:-0800
TZOFFSETTO:-0700
TZNAME:PDT
DTSTART:19700308T020000
RRULE:FREQ=YEARLY;BYMONTH=3;BYDAY=2SU
END:DAYLIGHT
BEGIN:STANDARD
TZOFFSETFROM:-0700
TZOFFSETTO:-0800
TZNAME:PST
DTSTART:19701101T020000
RRULE:FREQ=YEARLY;BYMONTH=11;BYDAY=1SU
END:STANDARD
END:VTIMEZONE
BEGIN:VEVENT
UID:1464587:Event:650133
DTSTAMP:20260420T133414Z
SUMMARY:Mad Decent Block Party
DESCRIPTION:Mad Decent Block Party\nDillon Francis :: GrandtheftJai Wo
 lf :: Paul Devroand more tba!Greek TheatreBerkeley, CA\nSat, Sep 10,
  2016\nShow: 5:00pm\n\n\n\n\nFor more information visit http://truesko
 ol.com/events/mad-decent-block-party-1
DTSTART;TZID=America/Los_Angeles:20160910T170000
DTEND;TZID=America/Los_Angeles:20160910T230000
CATEGORIES:"san francisco", oakland, berkley, "san jose", "bay area"
LOCATION:Greek Theatre, Berkeley
WEBSITE:http://www.ticketmaster.com/Greek-TheatreUC-Berkeley-tickets-B
 erkeley/venue/229421?tm_link=edp_Venue_Name_1
URL:http://www.ticketmaster.com/Greek-TheatreUC-Berkeley-tickets-Berke
 ley/venue/229421?tm_link=edp_Venue_Name_1
CONTACT:
ORGANIZER;CN="Editor's Pick":http://trueskool.com/profile/RentheVinylA
 rchaeologist
ATTACH;FMTTYPE="image/jpeg":http://storage.ning.com/topology/rest/1.0/
 file/get/2247989390?profile=original
ATTENDEE;ROLE=REQ-PARTICIPANT;PARTSTAT=ACCEPTED;RSVP=TRUE;CN="Editor's
  Pick":http://trueskool.com/profile/RentheVinylArchaeologist
END:VEVENT
END:VCALENDAR
