BEGIN:VCALENDAR
PRODID:NingEventWidget-v1
VERSION:2.0
METHOD:PUBLISH
BEGIN:VTIMEZONE
TZID:America/Los_Angeles
X-LIC-LOCATION:America/Los_Angeles
BEGIN:DAYLIGHT
TZOFFSETFROM:-0800
TZOFFSETTO:-0700
TZNAME:PDT
DTSTART:19700308T020000
RRULE:FREQ=YEARLY;BYMONTH=3;BYDAY=2SU
END:DAYLIGHT
BEGIN:STANDARD
TZOFFSETFROM:-0700
TZOFFSETTO:-0800
TZNAME:PST
DTSTART:19701101T020000
RRULE:FREQ=YEARLY;BYMONTH=11;BYDAY=1SU
END:STANDARD
END:VTIMEZONE
BEGIN:VEVENT
UID:1464587:Event:396056
DTSTAMP:20260421T000341Z
SUMMARY:MACY GRAY
DESCRIPTION:The Way Tour 2014\nSaturday, Sep 20\n\n8pm GA $49, Premier
  Seating + Meet & Greet $75\n10pm GA $49\n\nPREMIER SEATING + MEET and
  GREET tickets: Yoshi's will provide premier seating for the performa
 nce. The Meet and Greet (approx. 20 mins) will be one hour before the 
 early performance (7PM) and will take place in the club.\n\nFor more i
 nformation visit http://trueskool.com/events/macy-gray
DTSTART;TZID=America/Los_Angeles:20140920T200000
DTEND;TZID=America/Los_Angeles:20140920T230000
CATEGORIES:"bay area, san francisco, oakland"
LOCATION:Yoshi's San Fransisco
WEBSITE:http://www.ticketfly.com/search/?q=macy+gray+yoshis
URL:http://www.ticketfly.com/search/?q=macy+gray+yoshis
CONTACT:
ORGANIZER;CN="Editor's Pick":http://trueskool.com/profile/RentheVinylA
 rchaeologist
ATTACH;FMTTYPE="image/jpeg":http://storage.ning.com/topology/rest/1.0/
 file/get/2247965116?profile=original
ATTENDEE;ROLE=REQ-PARTICIPANT;PARTSTAT=ACCEPTED;RSVP=TRUE;CN="Editor's
  Pick":http://trueskool.com/profile/RentheVinylArchaeologist
END:VEVENT
END:VCALENDAR
