BEGIN:VCALENDAR
PRODID:NingEventWidget-v1
VERSION:2.0
METHOD:PUBLISH
BEGIN:VTIMEZONE
TZID:America/Los_Angeles
X-LIC-LOCATION:America/Los_Angeles
BEGIN:DAYLIGHT
TZOFFSETFROM:-0800
TZOFFSETTO:-0700
TZNAME:PDT
DTSTART:19700308T020000
RRULE:FREQ=YEARLY;BYMONTH=3;BYDAY=2SU
END:DAYLIGHT
BEGIN:STANDARD
TZOFFSETFROM:-0700
TZOFFSETTO:-0800
TZNAME:PST
DTSTART:19701101T020000
RRULE:FREQ=YEARLY;BYMONTH=11;BYDAY=1SU
END:STANDARD
END:VTIMEZONE
BEGIN:VEVENT
UID:1464587:Event:651734
DTSTAMP:20260420T102244Z
SUMMARY:MACY GRAY
DESCRIPTION:MACY GRAY\nFriday Aug 5, 2016Doors: 7:30 PM Show: 8:00 PM$
 47 - $79\n\nFriday Aug 5, 2016\nDoors: 9:45 PM Show: 10:00 PM$47\n\nSa
 turday Aug 6, 2016\nDoors: 7:00 PM Show: 7:30 PM$49 - $79\n\nSaturday 
 Aug 6, 2016\nDoors: 9:15 PM Show: 9:30 PM$49\n\nFor more information v
 isit http://trueskool.com/events/macy-gray-1
DTSTART;TZID=America/Los_Angeles:20160805T200000
DTEND;TZID=America/Los_Angeles:20160806T230000
CATEGORIES:"san francisco", oakland, berkley, "san jose", "bay area"
LOCATION:Yoshi's, Oakland
WEBSITE:https://www.ticketfly.com/purchase/event/1065393?_ga=1.1570586
 19.1642920422.1468532026
URL:https://www.ticketfly.com/purchase/event/1065393?_ga=1.157058619.1
 642920422.1468532026
CONTACT:
ORGANIZER;CN="Editor's Pick":http://trueskool.com/profile/RentheVinylA
 rchaeologist
ATTACH;FMTTYPE="image/jpeg":http://storage.ning.com/topology/rest/1.0/
 file/get/2247990179?profile=original
ATTENDEE;ROLE=REQ-PARTICIPANT;PARTSTAT=ACCEPTED;RSVP=TRUE;CN="Editor's
  Pick":http://trueskool.com/profile/RentheVinylArchaeologist
END:VEVENT
END:VCALENDAR
