BEGIN:VCALENDAR
PRODID:NingEventWidget-v1
VERSION:2.0
METHOD:PUBLISH
BEGIN:VTIMEZONE
TZID:America/Los_Angeles
X-LIC-LOCATION:America/Los_Angeles
BEGIN:DAYLIGHT
TZOFFSETFROM:-0800
TZOFFSETTO:-0700
TZNAME:PDT
DTSTART:19700308T020000
RRULE:FREQ=YEARLY;BYMONTH=3;BYDAY=2SU
END:DAYLIGHT
BEGIN:STANDARD
TZOFFSETFROM:-0700
TZOFFSETTO:-0800
TZNAME:PST
DTSTART:19701101T020000
RRULE:FREQ=YEARLY;BYMONTH=11;BYDAY=1SU
END:STANDARD
END:VTIMEZONE
BEGIN:VEVENT
UID:1464587:Event:646853
DTSTAMP:20260421T072959Z
SUMMARY:Macklemore & Ryan Lewis
DESCRIPTION:Macklemore & Ryan Lewis\nSaturday, May 28 20168:00 PMBill 
 Graham Civic AuditoriumSan Francisco, CA\n\nFor more information visit
  http://trueskool.com/events/macklemore-ryan-lewis-2
DTSTART;TZID=America/Los_Angeles:20160528T200000
DTEND;TZID=America/Los_Angeles:20160528T230000
CATEGORIES:"san francisco", oakland, berkley, "san jose", "bay area"
LOCATION:Bill Graham Civic Auditorium, San Francisco
WEBSITE:http://www.ticketmaster.com/event/1C005058DF9968E0?brand=anoth
 erplanet&camefrom=CFC_ANOTHERPLANET_web
URL:http://www.ticketmaster.com/event/1C005058DF9968E0?brand=anotherpl
 anet&camefrom=CFC_ANOTHERPLANET_web
CONTACT:
ORGANIZER;CN="Editor's Pick":http://trueskool.com/profile/RentheVinylA
 rchaeologist
ATTACH;FMTTYPE="image/jpeg":http://storage.ning.com/topology/rest/1.0/
 file/get/2247987767?profile=original
ATTENDEE;ROLE=REQ-PARTICIPANT;PARTSTAT=ACCEPTED;RSVP=TRUE;CN="Editor's
  Pick":http://trueskool.com/profile/RentheVinylArchaeologist
END:VEVENT
END:VCALENDAR
