BEGIN:VCALENDAR
PRODID:NingEventWidget-v1
VERSION:2.0
METHOD:PUBLISH
BEGIN:VTIMEZONE
TZID:America/Los_Angeles
X-LIC-LOCATION:America/Los_Angeles
BEGIN:DAYLIGHT
TZOFFSETFROM:-0800
TZOFFSETTO:-0700
TZNAME:PDT
DTSTART:19700308T020000
RRULE:FREQ=YEARLY;BYMONTH=3;BYDAY=2SU
END:DAYLIGHT
BEGIN:STANDARD
TZOFFSETFROM:-0700
TZOFFSETTO:-0800
TZNAME:PST
DTSTART:19701101T020000
RRULE:FREQ=YEARLY;BYMONTH=11;BYDAY=1SU
END:STANDARD
END:VTIMEZONE
BEGIN:VEVENT
UID:1464587:Event:654503
DTSTAMP:20260420T092419Z
SUMMARY:Machine Gun Kelly (WIN TICKETS)
DESCRIPTION:ENTER TO WIN A PAIR OF TICKETS. WINNER WILL BE DRAWN RANDO
 MLY AND ANNOUNCED 2 DAYS PRIOR TO EVENT.  Sunday Oct 9, 2016\nAlpha O
 mega Tour\nMachine Gun Kelly Mod Sun\n\n@ The UC Theatre Taube Family
  Music Hall\n2036 University Avenue, near Downtown Berkeley BART Berke
 ley, CA\nDoors: 7:00 PM Show: 8:00 PM\n$26\n>> BUY TICKETS\n\n\nFor mo
 re information visit http://trueskool.com/events/machine-gun-kelly-win
 -tickets
DTSTART;TZID=America/Los_Angeles:20161009T190000
DTEND;TZID=America/Los_Angeles:20161009T230000
CATEGORIES:"bay area", berkeley
LOCATION:UC Theatre, Berkeley, CA
WEBSITE:https://www.ticketfly.com/purchase/event/1268647?q=d49fc222-66
 86-4f9f-ab56-8819cb8825b8&p=6339e8a9-9d91-48e1-89f6-659f469973bd&ts=14
 75617899&c=ticketfly&e=003355a&rt=Safetynet&h=c831ec751c950644886b0327
 ae57fe0a
URL:https://www.ticketfly.com/purchase/event/1268647?q=d49fc222-6686-4
 f9f-ab56-8819cb8825b8&p=6339e8a9-9d91-48e1-89f6-659f469973bd&ts=147561
 7899&c=ticketfly&e=003355a&rt=Safetynet&h=c831ec751c950644886b0327ae57
 fe0a
CONTACT:
ORGANIZER:UC Theatre
ATTACH;FMTTYPE="image/jpeg":http://storage.ning.com/topology/rest/1.0/
 file/get/2247995809?profile=original
ATTENDEE;ROLE=REQ-PARTICIPANT;PARTSTAT=ACCEPTED;RSVP=TRUE;CN="Editor's
  Pick":http://trueskool.com/profile/RentheVinylArchaeologist
END:VEVENT
END:VCALENDAR
