BEGIN:VCALENDAR
PRODID:NingEventWidget-v1
VERSION:2.0
METHOD:PUBLISH
BEGIN:VTIMEZONE
TZID:America/Los_Angeles
X-LIC-LOCATION:America/Los_Angeles
BEGIN:DAYLIGHT
TZOFFSETFROM:-0800
TZOFFSETTO:-0700
TZNAME:PDT
DTSTART:19700308T020000
RRULE:FREQ=YEARLY;BYMONTH=3;BYDAY=2SU
END:DAYLIGHT
BEGIN:STANDARD
TZOFFSETFROM:-0700
TZOFFSETTO:-0800
TZNAME:PST
DTSTART:19701101T020000
RRULE:FREQ=YEARLY;BYMONTH=11;BYDAY=1SU
END:STANDARD
END:VTIMEZONE
BEGIN:VEVENT
UID:1464587:Event:130793
DTSTAMP:20260419T073954Z
SUMMARY:Mac Miller (WIN TICKETS)
DESCRIPTION:\n\nThursday, September 27 Macadelic Tour Mac Miller Travi
 s Porter YG\nFox Theater, Oakland, CA Show 8:00PM Purchase tickets\n\n
 \n\nFor more information visit http://trueskool.com/events/mac-miller-
 win-tickets
DTSTART;TZID=America/Los_Angeles:20120927T200000
DTEND;TZID=America/Los_Angeles:20120927T233000
CATEGORIES:"bay area", "san francisco"
LOCATION:Fox Theater, Oakland, CA
WEBSITE:http://www.ticketmaster.com/event/1C0048FAAB515E8D?brand=anoth
 erplanet&camefrom=CFC_ANOTHERPLANET
URL:http://www.ticketmaster.com/event/1C0048FAAB515E8D?brand=anotherpl
 anet&camefrom=CFC_ANOTHERPLANET
CONTACT:
ORGANIZER:True Skool
ATTACH;FMTTYPE="image/jpeg":http://storage.ning.com/topology/rest/1.0/
 file/get/2247928105?profile=original
ATTENDEE;ROLE=REQ-PARTICIPANT;PARTSTAT=ACCEPTED;RSVP=TRUE;CN="hayley m
 arie hall":http://trueskool.com/profile/hayleymariehall
ATTENDEE;ROLE=REQ-PARTICIPANT;PARTSTAT=ACCEPTED;RSVP=TRUE;CN="gary man
 alang":http://trueskool.com/profile/garymanalang
ATTENDEE;ROLE=REQ-PARTICIPANT;PARTSTAT=ACCEPTED;RSVP=TRUE;CN="Jon Schr
 oeder":http://trueskool.com/profile/JonSchroeder
ATTENDEE;ROLE=REQ-PARTICIPANT;PARTSTAT=ACCEPTED;RSVP=TRUE;CN="Sarah - 
 Reggae Gyals":http://trueskool.com/profile/SarahReggaeGyals
ATTENDEE;ROLE=REQ-PARTICIPANT;PARTSTAT=ACCEPTED;RSVP=TRUE;CN=cori:http
 ://trueskool.com/profile/cori
ATTENDEE;ROLE=REQ-PARTICIPANT;PARTSTAT=ACCEPTED;RSVP=TRUE;CN="Angela N
 ":http://trueskool.com/profile/AngelaN
ATTENDEE;ROLE=REQ-PARTICIPANT;PARTSTAT=ACCEPTED;RSVP=TRUE;CN="Marshall
  Roberts":http://trueskool.com/profile/MarshallRoberts
ATTENDEE;ROLE=REQ-PARTICIPANT;PARTSTAT=ACCEPTED;RSVP=TRUE;CN="Victoria
  Van Cleave":http://trueskool.com/profile/VictoriaVanCleave
ATTENDEE;ROLE=REQ-PARTICIPANT;PARTSTAT=ACCEPTED;RSVP=TRUE;CN="Sam Son"
 :http://trueskool.com/profile/SamSon143
ATTENDEE;ROLE=REQ-PARTICIPANT;PARTSTAT=ACCEPTED;RSVP=TRUE;CN=Ashley:ht
 tp://trueskool.com/profile/ashleytrotter
ATTENDEE;ROLE=REQ-PARTICIPANT;PARTSTAT=ACCEPTED;RSVP=TRUE;CN=END:http:
 //trueskool.com/profile/END
ATTENDEE;ROLE=REQ-PARTICIPANT;PARTSTAT=ACCEPTED;RSVP=TRUE;CN=brianclim
 :http://trueskool.com/profile/brianclim
ATTENDEE;ROLE=REQ-PARTICIPANT;PARTSTAT=ACCEPTED;RSVP=TRUE;CN="Jin Ryu"
 :http://trueskool.com/profile/JinRyu
ATTENDEE;ROLE=REQ-PARTICIPANT;PARTSTAT=ACCEPTED;RSVP=TRUE;CN="Huy Hoan
 g":http://trueskool.com/profile/HuyHoang
ATTENDEE;ROLE=REQ-PARTICIPANT;PARTSTAT=ACCEPTED;RSVP=TRUE;CN=J:http://
 trueskool.com/profile/J321
ATTENDEE;ROLE=REQ-PARTICIPANT;PARTSTAT=ACCEPTED;RSVP=TRUE;CN="G.":http
 ://trueskool.com/profile/G558
ATTENDEE;ROLE=REQ-PARTICIPANT;PARTSTAT=ACCEPTED;RSVP=TRUE;CN="Ren the 
 Vinyl Archaeologist":http://trueskool.com/profile/xh51jvilojur
ATTENDEE;ROLE=REQ-PARTICIPANT;PARTSTAT=TENTATIVE;RSVP=TRUE;CN=jen:http
 ://trueskool.com/profile/jen939
ATTENDEE;ROLE=REQ-PARTICIPANT;PARTSTAT=TENTATIVE;RSVP=TRUE;CN="Amy Gra
 ce Cappels":http://trueskool.com/profile/AmyGraceCappels
END:VEVENT
END:VCALENDAR
