BEGIN:VCALENDAR
PRODID:NingEventWidget-v1
VERSION:2.0
METHOD:PUBLISH
BEGIN:VTIMEZONE
TZID:America/Los_Angeles
X-LIC-LOCATION:America/Los_Angeles
BEGIN:DAYLIGHT
TZOFFSETFROM:-0800
TZOFFSETTO:-0700
TZNAME:PDT
DTSTART:19700308T020000
RRULE:FREQ=YEARLY;BYMONTH=3;BYDAY=2SU
END:DAYLIGHT
BEGIN:STANDARD
TZOFFSETFROM:-0700
TZOFFSETTO:-0800
TZNAME:PST
DTSTART:19701101T020000
RRULE:FREQ=YEARLY;BYMONTH=11;BYDAY=1SU
END:STANDARD
END:VTIMEZONE
BEGIN:VEVENT
UID:1464587:Event:651174
DTSTAMP:20260420T155311Z
SUMMARY:Mac Dre Day Featuring Mistah F.A.B., Kool John with Baby Bash,
  Mac Mall, J Diggs and Special Guest.
DESCRIPTION:ENTER TO WIN A PAIR OF TICKETS. WINNER WILL BE DRAWN RANDO
 MLY AND ANNOUNCED 2 DAYS PRIOR TO EVENT.   \n TUESDAY, JULY 5 Mac D
 re Day\nFeaturing Mistah F.A.B., Kool John with Baby Bash, Mac Mall, J
  Diggs and Special Guest. Music Provided by DJ Amen & DJ Shabazz\nThe 
 Regency Ballroom 1300 Van Ness Avenue San Francisco, CA 94109 Ages: Al
 l Ages Doors Open: 7:00PM. Show: 8:00PM Price: $29.50 - $32.00 >> BUY 
 TICKETS\nAndre \"Mac Dre\" Hicks is known in many respects as a Bay Ar
 ea legend and pioneer for a entire generation of Hip hop's most notabl
 e artists. But what many people outside of the Bay Area are not aware 
 of is that Mac Dre is a ever growing bridge between multiple cultures 
 and socio-economic backgrounds. Rooted in inclusion and free-spiritedn
 ess, the culture that Mac Dre inspired over a decade ago is still bein
 g celebrated today.\nFollowing his death, friends, fans, and fellow ar
 tists began to gather for his birthday (July 5th) to celebrate the lif
 e of Mac Dre; all the while carrying on the torch of his unifying spir
 it. For more than a decade now, Dre Day had grown alongside Mac Dre's 
 legacy, transforming it into more than just a celebration of Mac Dre h
 imself. Today It has become a party for every average joe, misfit, cou
 nter-culturalist, and free thinker to come out and enjoy edgy undergro
 und music.\n\nFor more information visit http://trueskool.com/events/m
 ac-dre-day-featuring-mistah-f-a-b-kool-john-with-baby-bash-mac-m
DTSTART;TZID=America/Los_Angeles:20160705T190000
DTEND;TZID=America/Los_Angeles:20160705T230000
CATEGORIES:"bay area", "san francisco"
LOCATION:The Regency Ballroom, San Francisco
WEBSITE:http://www.axs.com/events/311383/mac-dre-day-mistah-f-a-b-kool
 -john-tickets
URL:http://www.axs.com/events/311383/mac-dre-day-mistah-f-a-b-kool-joh
 n-tickets
CONTACT:
ORGANIZER:Goldenvoice
ATTACH;FMTTYPE="image/jpeg":http://storage.ning.com/topology/rest/1.0/
 file/get/2247989451?profile=original
ATTENDEE;ROLE=REQ-PARTICIPANT;PARTSTAT=ACCEPTED;RSVP=TRUE;CN="Editor's
  Pick":http://trueskool.com/profile/RentheVinylArchaeologist
END:VEVENT
END:VCALENDAR
