BEGIN:VCALENDAR
PRODID:NingEventWidget-v1
VERSION:2.0
METHOD:PUBLISH
BEGIN:VTIMEZONE
TZID:America/Los_Angeles
X-LIC-LOCATION:America/Los_Angeles
BEGIN:DAYLIGHT
TZOFFSETFROM:-0800
TZOFFSETTO:-0700
TZNAME:PDT
DTSTART:19700308T020000
RRULE:FREQ=YEARLY;BYMONTH=3;BYDAY=2SU
END:DAYLIGHT
BEGIN:STANDARD
TZOFFSETFROM:-0700
TZOFFSETTO:-0800
TZNAME:PST
DTSTART:19701101T020000
RRULE:FREQ=YEARLY;BYMONTH=11;BYDAY=1SU
END:STANDARD
END:VTIMEZONE
BEGIN:VEVENT
UID:1464587:Event:676204
DTSTAMP:20260420T154018Z
SUMMARY:Mac Dre Day feat. Tyga, Nef The Pharaoh, Yhung T.O (of SOB X R
 BE)...
DESCRIPTION:ENTER TO WIN A PAIR OF TICKETS. WINNER WILL BE DRAWN RANDO
 MLY AND ANNOUNCED 2 DAYS PRIOR TO EVENT.\r\n THURSDAY, JULY 5 Goldenvo
 ice presents Mac Dre Day feat. Tyga, Nef The Pharaoh, Yhung T.O (of SO
 B X RBE), Sneakk, Yhung Ceo, Lil Sheik, Philthy Rich, Coolio da Undado
 gg & Surprise Guests!\r\nThe Regency Ballroom San Francisco, CA - 8:00
  PM Ages: All Ages >> BUY TICKETS\r\n\r\n\r\n\n\nFor more information 
 visit http://trueskool.com/events/mac-dre-day-feat-tyga-nef-the-pharao
 h-yhung-t-o-of-sob-x-rbe
DTSTART;TZID=America/Los_Angeles:20180705T200000
DTEND;TZID=America/Los_Angeles:20180705T230000
CATEGORIES:"bay area", "san francisco"
LOCATION:Regency Ballroom, SF
WEBSITE:https://bit.ly/2lqmw6a
URL:https://bit.ly/2lqmw6a
CONTACT:
ORGANIZER:Goldenvoice
ATTACH;FMTTYPE="image/jpeg":http://storage.ning.com/topology/rest/1.0/
 file/get/2248007401?profile=original
ATTENDEE;ROLE=REQ-PARTICIPANT;PARTSTAT=ACCEPTED;RSVP=TRUE;CN="Editor's
  Pick":http://trueskool.com/profile/RentheVinylArchaeologist
END:VEVENT
END:VCALENDAR
