BEGIN:VCALENDAR
PRODID:NingEventWidget-v1
VERSION:2.0
METHOD:PUBLISH
BEGIN:VTIMEZONE
TZID:America/Los_Angeles
X-LIC-LOCATION:America/Los_Angeles
BEGIN:DAYLIGHT
TZOFFSETFROM:-0800
TZOFFSETTO:-0700
TZNAME:PDT
DTSTART:19700308T020000
RRULE:FREQ=YEARLY;BYMONTH=3;BYDAY=2SU
END:DAYLIGHT
BEGIN:STANDARD
TZOFFSETFROM:-0700
TZOFFSETTO:-0800
TZNAME:PST
DTSTART:19701101T020000
RRULE:FREQ=YEARLY;BYMONTH=11;BYDAY=1SU
END:STANDARD
END:VTIMEZONE
BEGIN:VEVENT
UID:1464587:Event:650718
DTSTAMP:20260420T104240Z
SUMMARY:M. Ward
DESCRIPTION:M. Ward returns with a stunning new album, More Rain, for 
 release on Merge Records on March 4, 2016. Ward has released a string 
 of acclaimed solo albums over the past several years, along with five 
 LPs with Zooey Deschanel as She & Him and a 2009 collaborative album w
 ith My Morning Jacket's Jim James and Bright Eyes' Conor Oberst and Mi
 ke Mogis under the moniker Monsters of Folk. In addition to his celebr
 ated work as a musician, Ward is an accomplished producer, handling th
 ose duties for such luminaries as Mavis Staples, Jenny Lewis, and Carl
 os Forster as well as his own musical projects.\n\nFor more informatio
 n visit http://trueskool.com/events/m-ward-naf-nice-as-fuck-ft-jenny-l
 ewis-erika-spring-tennessee
DTSTART;TZID=America/Los_Angeles:20160709T200000
DTEND;TZID=America/Los_Angeles:20160709T230000
CATEGORIES:berkeley, "bay area", folk, singer-songwriter
LOCATION:The UC Theatre, Berkeley
WEBSITE:http://www.theuctheatre.org/event/1151127-m-ward-berkeley/
URL:http://www.theuctheatre.org/event/1151127-m-ward-berkeley/
CONTACT:510-356-4000
ORGANIZER;CN="The UC Theatre":http://trueskool.com/profile/TheUCTheatr
 e
ATTACH;FMTTYPE="image/jpeg":http://storage.ning.com/topology/rest/1.0/
 file/get/2247989585?profile=original
ATTENDEE;ROLE=REQ-PARTICIPANT;PARTSTAT=ACCEPTED;RSVP=TRUE;CN="The UC T
 heatre":http://trueskool.com/profile/TheUCTheatre
END:VEVENT
END:VCALENDAR
