BEGIN:VCALENDAR
PRODID:NingEventWidget-v1
VERSION:2.0
METHOD:PUBLISH
BEGIN:VTIMEZONE
TZID:America/Los_Angeles
X-LIC-LOCATION:America/Los_Angeles
BEGIN:DAYLIGHT
TZOFFSETFROM:-0800
TZOFFSETTO:-0700
TZNAME:PDT
DTSTART:19700308T020000
RRULE:FREQ=YEARLY;BYMONTH=3;BYDAY=2SU
END:DAYLIGHT
BEGIN:STANDARD
TZOFFSETFROM:-0700
TZOFFSETTO:-0800
TZNAME:PST
DTSTART:19701101T020000
RRULE:FREQ=YEARLY;BYMONTH=11;BYDAY=1SU
END:STANDARD
END:VTIMEZONE
BEGIN:VEVENT
UID:1464587:Event:662214
DTSTAMP:20260421T111758Z
SUMMARY:Z-Trip at M.A.N.I.F.E.S.T Art/Music festival
DESCRIPTION:ENTER TO WIN A PAIR OF TICKETS. WINNER WILL BE DRAWN RANDO
 MLY AND ANNOUNCED 2 DAYS PRIOR TO EVENT.Â \n\nSATURDAY MAY 27\nM.A.N.I
 .F.E.S.T Art/Music festival feat. DJ Z-Trip\nArt . Music .Â Benefit Ev
 ent\n\n@Â 16th Street Historic Train Station, 1601 Wood St., Oakland, 
 CA\n>> BUY TICKETS\n PRESALE TICKETS AVAILABLE FOR $20\nFun for the en
 tire family,Â FULL BARÂ for 21+\nManifest Stage:\nLegendary skratch ma
 ster and mashup pioneer:Â  DJ Z-Trip Fishbone's Angelo Moore & The Bra
 nd New Step Thavius Beck\n Sunset Soundsystem DJs\nSpecial guest from 
 LA's Tropical and Moontribe:Â  Ben AnnandÂ \n Plus local house music l
 egends: DJ Seven Kincaid Joel ConwayÂ  VJ set by:Â DJ LexÂ \n Bass/Hou
 se/Techno: Forest Green, Ryan Avery, Blake Las, Michael Liu, DJ Brunch
  Life, DJ Lurid, DJ DomÂ \n\nALSO FEATURED: - Yoga Session - KidZone Â
   - Presentations - Silent DiscoÂ  - Interactive Installations - Live 
 Painting - Video Mapping + MoreÂ \n\nAlso featuring Blue Bear Students
 :Â \nEl DIablo, Tracksuit, Blade & MoreÂ Â \n\nInteractive music learn
 ing area, featuring:  Blue Bear Music, Thavius Beck, Forest GreenÂ \n 
 Steampunk Stage: Video projections by VIBERATION, VJ set by:  DJ LexÂ 
 \n Yoga Session hosted by special guest Yoga Instructor from Tropical:
  Jessica AnnandÂ \n KidZone Featuring:  DJ Lex, Baby DeeJay, Art activ
 ity areaÂ \n\n\nFor more information visit http://trueskool.com/events
 /m-a-n-i-f-e-s-t-art-music-festival
DTSTART;TZID=America/Los_Angeles:20170527T120000
DTEND;TZID=America/Los_Angeles:20170527T220000
CATEGORIES:oakland, "bay area", "train station"
LOCATION:16th Street Historic Train Station, Oakland, CA
WEBSITE:http://www.manifest.brownpapertickets.com
URL:http://www.manifest.brownpapertickets.com
CONTACT:5102940026
ORGANIZER:Stand Up Art
ATTACH;FMTTYPE="image/jpeg":http://storage.ning.com/topology/rest/1.0/
 file/get/2247997056?profile=original
ATTENDEE;ROLE=REQ-PARTICIPANT;PARTSTAT=ACCEPTED;RSVP=TRUE;CN="david ga
 tes":http://trueskool.com/profile/davidgates
END:VEVENT
END:VCALENDAR
