BEGIN:VCALENDAR
PRODID:NingEventWidget-v1
VERSION:2.0
METHOD:PUBLISH
BEGIN:VTIMEZONE
TZID:America/Los_Angeles
X-LIC-LOCATION:America/Los_Angeles
BEGIN:DAYLIGHT
TZOFFSETFROM:-0800
TZOFFSETTO:-0700
TZNAME:PDT
DTSTART:19700308T020000
RRULE:FREQ=YEARLY;BYMONTH=3;BYDAY=2SU
END:DAYLIGHT
BEGIN:STANDARD
TZOFFSETFROM:-0700
TZOFFSETTO:-0800
TZNAME:PST
DTSTART:19701101T020000
RRULE:FREQ=YEARLY;BYMONTH=11;BYDAY=1SU
END:STANDARD
END:VTIMEZONE
BEGIN:VEVENT
UID:1464587:Event:809241
DTSTAMP:20260424T130646Z
SUMMARY:Lyricist Lounge with Rakim, KRS-One, Big Daddy Kane &amp; DJ J
 azzy Jeff
DESCRIPTION:Celebrating 30 years showcasing the best talent in Hip Hop
 , Lyricist Lounge welcomes a lineup of legendary rappers for one night
  only in Oakland.\nABOUT LYRICIST LOUNGE\nLyricist Lounge was born as 
 a series of open mic events hosted in a small studio apartment in the 
 Lower East Side of New York City. Founded in 1991 by Anthony Marshall 
 and Danny Castro, the duo dreamt of creating a space for raw talent an
 d unsigned hype throughout the five boroughs of the city and beyond.\n
 This dream became a reality and resulted in three albums, seven domest
 ic tours, two seasons of the MTV sketch comedy series, “The Lyricist
  Lounge Sketch Show”, two DVD releases and countless showcases featu
 ring big name talent such as: Mos Def, Dave Chappelle, Talib Kweli, 50
  Cent, Eminem, Notorious B.I.G., Sean \"Diddy\" Combs, Tracee Ellis Ro
 ss, The Black Eyed Peas, Jay-Z, The Roots, Tracy Morgan, Common, De La
  Soul, Q-Tip, Mobb Deep, Fat Joe, Wyclef, Snoop, Rakim and many others
 .\n\n\nKRS-One\n\n\n\nRakim\n\n\n\n\nBig Daddy Kane\n\n\n\n\nDJ Jazzy 
 Jeff\n\n\n\n\nFor more information visit http://trueskool.com/events/l
 yricist-lounge-with-rakim-krs-one-big-daddy-kane-amp-dj-jazzy
DTSTART;TZID=America/Los_Angeles:20220625T190000
DTEND;TZID=America/Los_Angeles:20220625T200000
CATEGORIES:"paramount theatre", oakland, "bay area", california
LOCATION:Paramount Theatre, Oakland
WEBSITE:https://www.eventbrite.com/e/lyricist-lounge-with-rakim-krs-on
 e-big-daddy-kane-dj-jazzy-jeff-tickets-312095675567
URL:https://www.eventbrite.com/e/lyricist-lounge-with-rakim-krs-one-bi
 g-daddy-kane-dj-jazzy-jeff-tickets-312095675567
CONTACT:
ORGANIZER;CN="Brett Ruffenach":http://trueskool.com/profile/BrettRuffe
 nach
ATTACH;FMTTYPE="image/jpeg":https://storage.ning.com/topology/rest/1.0
 /file/get/10546491890?profile=original
ATTENDEE;ROLE=REQ-PARTICIPANT;PARTSTAT=ACCEPTED;RSVP=TRUE;CN="Brett Ru
 ffenach":http://trueskool.com/profile/BrettRuffenach
END:VEVENT
END:VCALENDAR
