BEGIN:VCALENDAR
PRODID:NingEventWidget-v1
VERSION:2.0
METHOD:PUBLISH
BEGIN:VTIMEZONE
TZID:America/Los_Angeles
X-LIC-LOCATION:America/Los_Angeles
BEGIN:DAYLIGHT
TZOFFSETFROM:-0800
TZOFFSETTO:-0700
TZNAME:PDT
DTSTART:19700308T020000
RRULE:FREQ=YEARLY;BYMONTH=3;BYDAY=2SU
END:DAYLIGHT
BEGIN:STANDARD
TZOFFSETFROM:-0700
TZOFFSETTO:-0800
TZNAME:PST
DTSTART:19701101T020000
RRULE:FREQ=YEARLY;BYMONTH=11;BYDAY=1SU
END:STANDARD
END:VTIMEZONE
BEGIN:VEVENT
UID:1464587:Event:82268
DTSTAMP:20260420T174048Z
SUMMARY:Lyric Foundry Presents BLESS UP
DESCRIPTION:Lyric Foundry PresentsBLESS UPA hip-hop showcaseFREE @Loun
 ge 3411 in Oakland21 and up, 9pm until 2amFull Bar!Experience some of 
 the finest conscious music the bay area has to offer at this special, 
 one-of-a-kind evening.THE LINE UP:Many ElementsSpecial OpticsLone Wolf
  Son of CosmosHunab KrewLyric Foundryhttp://www.lyricfoundry.com/Light
 ing by: Variat Productions\n\nFor more information visit http://truesk
 ool.com/events/lyric-foundry-presents-bless
DTSTART;TZID=America/Los_Angeles:20110429T210000
DTEND;TZID=America/Los_Angeles:20110430T020000
CATEGORIES:oakland, ca
LOCATION:Lounge 3411
WEBSITE:http://www.yelp.com/biz/lounge-3411-oakland
URL:http://www.yelp.com/biz/lounge-3411-oakland
CONTACT:510-828-0441
ORGANIZER:Lyric Foundry
ATTACH;FMTTYPE="image/jpeg":http://storage.ning.com/topology/rest/1.0/
 file/get/2247895268?profile=original
ATTENDEE;ROLE=REQ-PARTICIPANT;PARTSTAT=ACCEPTED;RSVP=TRUE;CN="K M":htt
 p://trueskool.com/profile/KM
END:VEVENT
END:VCALENDAR
