BEGIN:VCALENDAR
PRODID:NingEventWidget-v1
VERSION:2.0
METHOD:PUBLISH
BEGIN:VTIMEZONE
TZID:America/Los_Angeles
X-LIC-LOCATION:America/Los_Angeles
BEGIN:DAYLIGHT
TZOFFSETFROM:-0800
TZOFFSETTO:-0700
TZNAME:PDT
DTSTART:19700308T020000
RRULE:FREQ=YEARLY;BYMONTH=3;BYDAY=2SU
END:DAYLIGHT
BEGIN:STANDARD
TZOFFSETFROM:-0700
TZOFFSETTO:-0800
TZNAME:PST
DTSTART:19701101T020000
RRULE:FREQ=YEARLY;BYMONTH=11;BYDAY=1SU
END:STANDARD
END:VTIMEZONE
BEGIN:VEVENT
UID:1464587:Event:675833
DTSTAMP:20260421T010003Z
SUMMARY:LYFE JENNINGS
DESCRIPTION:Open Dance Floor!\r\nLYFE JENNINGS\r\nYoshi's Oakland 510 
 Embarcadero West  Oakland, CA\r\nSaturday Jun 16, 2018 Doors: 7:00 PM 
  Show: 7:30 PM\r\n$54 - $95\r\nSaturday Jun 16, 2018 Doors: 9:15 PM  S
 how: 9:30 PM\r\n$59\n\nFor more information visit http://trueskool.com
 /events/lyfe-jennings-1
DTSTART;TZID=America/Los_Angeles:20180616T193000
DTEND;TZID=America/Los_Angeles:20180617T120000
CATEGORIES:"bay area", oakland, "san francisco", "san jose", berkeley
LOCATION:Yoshi's Oakland
WEBSITE:http://www.trueskool.com/events/event/new?cancelTarget=http%3A
 %2F%2Fwww.trueskool.com%2Fevents%2Fsir
URL:http://www.trueskool.com/events/event/new?cancelTarget=http%3A%2F%
 2Fwww.trueskool.com%2Fevents%2Fsir
CONTACT:
ORGANIZER;CN="Editor's Pick":http://trueskool.com/profile/RentheVinylA
 rchaeologist
ATTACH;FMTTYPE="image/jpeg":http://storage.ning.com/topology/rest/1.0/
 file/get/2248008813?profile=original
ATTENDEE;ROLE=REQ-PARTICIPANT;PARTSTAT=ACCEPTED;RSVP=TRUE;CN="Editor's
  Pick":http://trueskool.com/profile/RentheVinylArchaeologist
END:VEVENT
END:VCALENDAR
