BEGIN:VCALENDAR
PRODID:NingEventWidget-v1
VERSION:2.0
METHOD:PUBLISH
BEGIN:VTIMEZONE
TZID:America/Los_Angeles
X-LIC-LOCATION:America/Los_Angeles
BEGIN:DAYLIGHT
TZOFFSETFROM:-0800
TZOFFSETTO:-0700
TZNAME:PDT
DTSTART:19700308T020000
RRULE:FREQ=YEARLY;BYMONTH=3;BYDAY=2SU
END:DAYLIGHT
BEGIN:STANDARD
TZOFFSETFROM:-0700
TZOFFSETTO:-0800
TZNAME:PST
DTSTART:19701101T020000
RRULE:FREQ=YEARLY;BYMONTH=11;BYDAY=1SU
END:STANDARD
END:VTIMEZONE
BEGIN:VEVENT
UID:1464587:Event:656049
DTSTAMP:20260422T040939Z
SUMMARY:Lupe Fiasco
DESCRIPTION:WEDNESDAY, NOV 16LUPE FIASCO\n@ 1015, San Francisco>> BUY 
 TICKETS\nChicago-bred conscious superstar MC, LUPE FIASCO is on tour! 
 On Tuesday, November 22 (Thanksgiving week!), he comes to the Crest Th
 eatre in Sacramento (JUST ADDED!) and on Wednesday, November 16 to 101
 5 Folsom in San Francisco. His stage show is phenomenal ...don't miss 
 it!\nSACRAMENTO: BUY TICKETS HERE\n\nFor more information visit http:
 //trueskool.com/events/lupe-fiasco-3
DTSTART;TZID=America/Los_Angeles:20161116T180000
DTEND;TZID=America/Los_Angeles:20161116T190000
CATEGORIES:"bay area", "san francisco"
LOCATION:1015, San Francisco
WEBSITE:http://redirect.viglink.com/?format=go&jsonp=vglnk_14791509365
 3112&key=adf545e4330443f5830190c953df38cd&libId=ivig347t01000hzs000DAh
 tkekj0k&loc=http%3A%2F%2Fwww.trueskool.com%2Fforum%2Ftopics%2Flupe-fia
 sco-1015-san-francisco-wed-11-16&v=1&out=https%3A%2F%2Fwww.eventbrite.
 com%2Fe%2Flupe-fiasco-at-1015-folsom-tickets-27632232752&ref=http%3A%2
 F%2Fwww.trueskool.com%2Fforum%3Fpage%3D2&title=Lupe%20Fiasco%20%40%201
 015%2C%20San%20Francisco%20(Wed%2C%2011%2F16)%20-%20True%20Skool%20Net
 work&txt=%26gt%3B%
URL:http://redirect.viglink.com/?format=go&jsonp=vglnk_147915093653112
 &key=adf545e4330443f5830190c953df38cd&libId=ivig347t01000hzs000DAhtkek
 j0k&loc=http%3A%2F%2Fwww.trueskool.com%2Fforum%2Ftopics%2Flupe-fiasco-
 1015-san-francisco-wed-11-16&v=1&out=https%3A%2F%2Fwww.eventbrite.com%
 2Fe%2Flupe-fiasco-at-1015-folsom-tickets-27632232752&ref=http%3A%2F%2F
 www.trueskool.com%2Fforum%3Fpage%3D2&title=Lupe%20Fiasco%20%40%201015%
 2C%20San%20Francisco%20(Wed%2C%2011%2F16)%20-%20True%20Skool%20Network
 &txt=%26gt%3B%
CONTACT:
ORGANIZER:Tastemaker Live
ATTACH;FMTTYPE="image/jpeg":http://storage.ning.com/topology/rest/1.0/
 file/get/2247996176?profile=original
ATTENDEE;ROLE=REQ-PARTICIPANT;PARTSTAT=ACCEPTED;RSVP=TRUE;CN="Editor's
  Pick":http://trueskool.com/profile/RentheVinylArchaeologist
END:VEVENT
END:VCALENDAR
