BEGIN:VCALENDAR
PRODID:NingEventWidget-v1
VERSION:2.0
METHOD:PUBLISH
BEGIN:VTIMEZONE
TZID:America/Los_Angeles
X-LIC-LOCATION:America/Los_Angeles
BEGIN:DAYLIGHT
TZOFFSETFROM:-0800
TZOFFSETTO:-0700
TZNAME:PDT
DTSTART:19700308T020000
RRULE:FREQ=YEARLY;BYMONTH=3;BYDAY=2SU
END:DAYLIGHT
BEGIN:STANDARD
TZOFFSETFROM:-0700
TZOFFSETTO:-0800
TZNAME:PST
DTSTART:19701101T020000
RRULE:FREQ=YEARLY;BYMONTH=11;BYDAY=1SU
END:STANDARD
END:VTIMEZONE
BEGIN:VEVENT
UID:1464587:Event:612241
DTSTAMP:20260420T201459Z
SUMMARY:LoveRance Performing Live!!! @ Ménage
DESCRIPTION:DJ RAPTURE/GET UR LIFE PRODUCTIONS Presents:Pisces Birthd
 ay Bash at Ménage with LoveRance Performing Live!!!The LGBTQ and Frie
 nds Party Headquarters on Every 2nd Friday..Resident DJ's: Jacatac, D
 J J12, Rapture in the mix Spinning all the Top Hip Hop, R&B, Bay Hits
 , and Top 40'sCost: $12 before 11PMMénage Go-Go's will be keeping the
  stage on fireDrink Specials will be available all nightVIP is availab
 le\n\nFor more information visit http://trueskool.com/events/loverance
 -performing-live-m-nage
DTSTART;TZID=America/Los_Angeles:20150313T210000
DTEND;TZID=America/Los_Angeles:20150314T020000
CATEGORIES:san, francisco, bay, area, oakland, richmond, jose, los, an
 geles, hayward, antioch, berkeley
LOCATION:CLUB BNB, Oakland, Ca.
WEBSITE:
URL:
CONTACT:(510)759-7340
ORGANIZER;CN="Ronnie Jones":http://trueskool.com/profile/RonnieJones
ATTACH;FMTTYPE="image/jpeg":http://storage.ning.com/topology/rest/1.0/
 file/get/2247978743?profile=original
ATTENDEE;ROLE=REQ-PARTICIPANT;PARTSTAT=ACCEPTED;RSVP=TRUE;CN="Ronnie J
 ones":http://trueskool.com/profile/RonnieJones
END:VEVENT
END:VCALENDAR
