BEGIN:VCALENDAR
PRODID:NingEventWidget-v1
VERSION:2.0
METHOD:PUBLISH
BEGIN:VTIMEZONE
TZID:America/Los_Angeles
X-LIC-LOCATION:America/Los_Angeles
BEGIN:DAYLIGHT
TZOFFSETFROM:-0800
TZOFFSETTO:-0700
TZNAME:PDT
DTSTART:19700308T020000
RRULE:FREQ=YEARLY;BYMONTH=3;BYDAY=2SU
END:DAYLIGHT
BEGIN:STANDARD
TZOFFSETFROM:-0700
TZOFFSETTO:-0800
TZNAME:PST
DTSTART:19701101T020000
RRULE:FREQ=YEARLY;BYMONTH=11;BYDAY=1SU
END:STANDARD
END:VTIMEZONE
BEGIN:VEVENT
UID:1464587:Event:627495
DTSTAMP:20260421T034040Z
SUMMARY:Los Rakas, Skipper (HBK), Rey Res, DJ Amen (WIN TICKETS)
DESCRIPTION: ENTER TO WIN A PAIR OF TICKETS. WINNER WILL BE DRAWN RAND
 OMLY AND ANNOUNCED 2 DAYS PRIOR TO EVENT. \n\n Fri. May 8 \nLos Rakas
 \nSkipper (HBK)\nRey Res \nDJ Amen\nSlim's - 333 11th St. SF  all ages
  (6+). doors 8pm/show 9pm.\nTickets are $15 advance/$20 door\n \nLos R
 akas is comprised of cousins Raka Rich & Raka Dun, pioneering Panamani
 ans by way of the Bay Area on the frontier of a new Latin urban sound.
  Known for their fresh mix of hip-hop, plena, reggae and dancehall mus
 ic with both Spanish and English lyricism, Los Rakas represent the cut
 ting edge of Pan-American flows. Taking their name from the Panamanian
  word \"Rakataka\" - a negative slur used to describe someone from the
  ghetto - Los Rakas have set out to both inspire fellow \"Rakas\" by e
 mpowering them to become successful despite their circumstances, turni
 ng the current Latin hip-hop world on its head.\n\nFor more informatio
 n visit http://trueskool.com/events/los-rakas-hbk-skipper-rey-res-dj-a
 men
DTSTART;TZID=America/Los_Angeles:20150508T200000
DTEND;TZID=America/Los_Angeles:20150509T020000
CATEGORIES:"san francisco", "bay area"
LOCATION:Slim's, San Francisco
WEBSITE:http://tickets.slims-sf.com/events/488292/los-rakas/
URL:http://tickets.slims-sf.com/events/488292/los-rakas/
CONTACT:
ORGANIZER:Slim's
ATTACH;FMTTYPE="image/jpeg":http://storage.ning.com/topology/rest/1.0/
 file/get/2247975295?profile=original
ATTENDEE;ROLE=REQ-PARTICIPANT;PARTSTAT=ACCEPTED;RSVP=TRUE;CN="Editor's
  Pick":http://trueskool.com/profile/RentheVinylArchaeologist
END:VEVENT
END:VCALENDAR
