BEGIN:VCALENDAR
PRODID:NingEventWidget-v1
VERSION:2.0
METHOD:PUBLISH
BEGIN:VTIMEZONE
TZID:America/Los_Angeles
X-LIC-LOCATION:America/Los_Angeles
BEGIN:DAYLIGHT
TZOFFSETFROM:-0800
TZOFFSETTO:-0700
TZNAME:PDT
DTSTART:19700308T020000
RRULE:FREQ=YEARLY;BYMONTH=3;BYDAY=2SU
END:DAYLIGHT
BEGIN:STANDARD
TZOFFSETFROM:-0700
TZOFFSETTO:-0800
TZNAME:PST
DTSTART:19701101T020000
RRULE:FREQ=YEARLY;BYMONTH=11;BYDAY=1SU
END:STANDARD
END:VTIMEZONE
BEGIN:VEVENT
UID:1464587:Event:675031
DTSTAMP:20260420T135356Z
SUMMARY:Lorna \"La Reina del Reggaeton\" from Panamá
DESCRIPTION:LORNA (((EN VIVO))) for the first time in the Bay Area!! w
 ith Kulcha Latino DJ's & Chulita Vinyl Club plus two rooms of Latin mu
 sic.\nGet your $20 pre-sale tickets now.\nLorna Zarina Aponte (born in
  Panama), better known as Lorna, is a female reggaeton artist best kno
 wn for her world wide hit song \"Papi Chulo...Te Traigo El MMMM\" (#1 
 in France, #2 in Italy, Belgium, #3 in the Netherlands, #12 in Switzer
 land). At the age of 19, Lorna decided that she wanted to become a sin
 ger and solo artist, so she went searching for, and found a music prod
 ucer and DJ who was willing to record a song with an unknown artist. T
 his gave Lorna the opportunity to record her hit single. Soon after sh
 e was working with El Chombo, a renowned producer in Panama. Lorna has
  continued to perform and stay active in the studio ever since, and re
 leasing a steady string of dancefloor favorites during her career that
  has spanned decades. Lorna has never performed in the Bay Area before
 , although her records are played 7 days a week by Latin & dance deeja
 ys at every Bay Area club.\nhttps://youtu.be/kVsYckNXYqM\n\nFor more i
 nformation visit http://trueskool.com/events/lorna-la-reina-del-reggae
 ton-from-panam
DTSTART;TZID=America/Los_Angeles:20180629T210000
DTEND;TZID=America/Los_Angeles:20180630T020000
CATEGORIES:oakland, "bay area", "san francisco", "san jose", berkeley,
  "south bay"
LOCATION:The New Parish
WEBSITE:https://www.eventbrite.com/e/lorna-miss-papi-chulo-en-vivo-w-k
 ulcha-latino-djs-chulita-vinyl-club-tickets-44972282307
URL:https://www.eventbrite.com/e/lorna-miss-papi-chulo-en-vivo-w-kulch
 a-latino-djs-chulita-vinyl-club-tickets-44972282307
CONTACT:
ORGANIZER:Kulcha Latino
ATTACH;FMTTYPE="image/jpeg":http://storage.ning.com/topology/rest/1.0/
 file/get/2248006852?profile=original
ATTENDEE;ROLE=REQ-PARTICIPANT;PARTSTAT=ACCEPTED;RSVP=TRUE;CN="Ras Rica
 n":http://trueskool.com/profile/carlosnavarro
END:VEVENT
END:VCALENDAR
