BEGIN:VCALENDAR
PRODID:NingEventWidget-v1
VERSION:2.0
METHOD:PUBLISH
BEGIN:VTIMEZONE
TZID:America/Los_Angeles
X-LIC-LOCATION:America/Los_Angeles
BEGIN:DAYLIGHT
TZOFFSETFROM:-0800
TZOFFSETTO:-0700
TZNAME:PDT
DTSTART:19700308T020000
RRULE:FREQ=YEARLY;BYMONTH=3;BYDAY=2SU
END:DAYLIGHT
BEGIN:STANDARD
TZOFFSETFROM:-0700
TZOFFSETTO:-0800
TZNAME:PST
DTSTART:19701101T020000
RRULE:FREQ=YEARLY;BYMONTH=11;BYDAY=1SU
END:STANDARD
END:VTIMEZONE
BEGIN:VEVENT
UID:1464587:Event:624207
DTSTAMP:20260420T213911Z
SUMMARY:LOOSE JOINTS! 3rd Fridays
DESCRIPTION:DJs Tom Thump & Damon Bell bring you 4 Hours of Funk.Disco
 .Boogie.PostPunk.Afrobeat.& Latin every 3rd Friday, each Month. Dance 
 on the floor, dance on the stage, dance on the floor some more. ALL Vi
 nyl. \n\nFor more information visit http://trueskool.com/events/loose
 -joints-3rd-fridays
DTSTART;TZID=America/Los_Angeles:20150417T180000
DTEND;TZID=America/Los_Angeles:20150418T020000
CATEGORIES:"#funk", "#soul", "#afro", beat, "#make-out", room, "#boogi
 e", "#latin", "#post", punk, "#dance"
LOCATION:Make-Out Room, San Francisco
WEBSITE:
URL:
CONTACT:
ORGANIZER;CN="dj tom thump":http://trueskool.com/profile/djtomthump
ATTACH;FMTTYPE="image/jpeg":http://storage.ning.com/topology/rest/1.0/
 file/get/2247975463?profile=original
ATTENDEE;ROLE=REQ-PARTICIPANT;PARTSTAT=ACCEPTED;RSVP=TRUE;CN="dj tom t
 hump":http://trueskool.com/profile/djtomthump
END:VEVENT
END:VCALENDAR
