BEGIN:VCALENDAR
PRODID:NingEventWidget-v1
VERSION:2.0
METHOD:PUBLISH
BEGIN:VTIMEZONE
TZID:America/Los_Angeles
X-LIC-LOCATION:America/Los_Angeles
BEGIN:DAYLIGHT
TZOFFSETFROM:-0800
TZOFFSETTO:-0700
TZNAME:PDT
DTSTART:19700308T020000
RRULE:FREQ=YEARLY;BYMONTH=3;BYDAY=2SU
END:DAYLIGHT
BEGIN:STANDARD
TZOFFSETFROM:-0700
TZOFFSETTO:-0800
TZNAME:PST
DTSTART:19701101T020000
RRULE:FREQ=YEARLY;BYMONTH=11;BYDAY=1SU
END:STANDARD
END:VTIMEZONE
BEGIN:VEVENT
UID:1464587:Event:554693
DTSTAMP:20260420T200202Z
SUMMARY:Logic (Philadelphia)
DESCRIPTION:\nDate\nLocation\nEvent Details\nFind Tickets\n\n\nMARÂ Â 
 \n15\nSUN\n\nTheatre of Living ArtsPhiladelphia,Â PA08:00 PM\n\nÂ Logi
 c: Under Pressure Â World Tour Presented By Â Monster Energy OutbreakÂ
  Details: Logic,Â DJ Â Rhetorik,Michael Christmas\nÂ See Â TicketsÂ on
  Live Â Nation\nÂ NOT MANY LEFT\n\n\n\n\nFor more information visit ht
 tp://trueskool.com/events/logic-philadelphia
DTSTART;TZID=America/Los_Angeles:20150315T200000
DTEND;TZID=America/Los_Angeles:20150315T230000
CATEGORIES:philadelphia, pa, pennsylvania, philly
LOCATION:Theatre of Living Arts, Philadelphia
WEBSITE:http://www.ticketmaster.com/Theatre-of-Living-Arts-tickets-Phi
 ladelphia/venue/16388
URL:http://www.ticketmaster.com/Theatre-of-Living-Arts-tickets-Philade
 lphia/venue/16388
CONTACT:
ORGANIZER;CN="Editor's Pick":http://trueskool.com/profile/RentheVinylA
 rchaeologist
ATTACH;FMTTYPE="image/jpeg":http://storage.ning.com/topology/rest/1.0/
 file/get/2247972860?profile=original
ATTENDEE;ROLE=REQ-PARTICIPANT;PARTSTAT=ACCEPTED;RSVP=TRUE;CN="Editor's
  Pick":http://trueskool.com/profile/RentheVinylArchaeologist
END:VEVENT
END:VCALENDAR
