BEGIN:VCALENDAR
PRODID:NingEventWidget-v1
VERSION:2.0
METHOD:PUBLISH
BEGIN:VTIMEZONE
TZID:America/Los_Angeles
X-LIC-LOCATION:America/Los_Angeles
BEGIN:DAYLIGHT
TZOFFSETFROM:-0800
TZOFFSETTO:-0700
TZNAME:PDT
DTSTART:19700308T020000
RRULE:FREQ=YEARLY;BYMONTH=3;BYDAY=2SU
END:DAYLIGHT
BEGIN:STANDARD
TZOFFSETFROM:-0700
TZOFFSETTO:-0800
TZNAME:PST
DTSTART:19701101T020000
RRULE:FREQ=YEARLY;BYMONTH=11;BYDAY=1SU
END:STANDARD
END:VTIMEZONE
BEGIN:VEVENT
UID:1464587:Event:551509
DTSTAMP:20260421T075141Z
SUMMARY:Logic (Miami)
DESCRIPTION:\nDate\nLocation\nEvent Details\nFind Tickets\n\n\nFEB  
 \n26\nTHU\n\nCulture RoomFt Lauderdale, FL 07:30 PM \n\n Logic: Un
 der Pressure World  Tour Presented By Monster  Energy Outbreak Deta
 ils: Logic\nSee Tickets\n\n\n\n\nFor more information visit http://tru
 eskool.com/events/logic-miami
DTSTART;TZID=America/Los_Angeles:20150226T193000
DTEND;TZID=America/Los_Angeles:20150226T230000
CATEGORIES:miami, florida, fla, "ft. lauderdale"
LOCATION:Culture Room, Ft. Lauderdale
WEBSITE:http://www.ticketmaster.com/logic-under-pressure-world-tour-pr
 esented-ft-lauderdale-florida-02-26-2015/event/0D004D81FF3BA28F?artist
 id=1604590&majorcatid=10001&minorcatid=3&tm_link=artist_msg-0_0D004D81
 FF3BA28F
URL:http://www.ticketmaster.com/logic-under-pressure-world-tour-presen
 ted-ft-lauderdale-florida-02-26-2015/event/0D004D81FF3BA28F?artistid=1
 604590&majorcatid=10001&minorcatid=3&tm_link=artist_msg-0_0D004D81FF3B
 A28F
CONTACT:
ORGANIZER;CN="Editor's Pick":http://trueskool.com/profile/RentheVinylA
 rchaeologist
ATTACH;FMTTYPE="image/jpeg":http://storage.ning.com/topology/rest/1.0/
 file/get/2247972860?profile=original
ATTENDEE;ROLE=REQ-PARTICIPANT;PARTSTAT=ACCEPTED;RSVP=TRUE;CN="Editor's
  Pick":http://trueskool.com/profile/RentheVinylArchaeologist
END:VEVENT
END:VCALENDAR
