BEGIN:VCALENDAR
PRODID:NingEventWidget-v1
VERSION:2.0
METHOD:PUBLISH
BEGIN:VTIMEZONE
TZID:America/Los_Angeles
X-LIC-LOCATION:America/Los_Angeles
BEGIN:DAYLIGHT
TZOFFSETFROM:-0800
TZOFFSETTO:-0700
TZNAME:PDT
DTSTART:19700308T020000
RRULE:FREQ=YEARLY;BYMONTH=3;BYDAY=2SU
END:DAYLIGHT
BEGIN:STANDARD
TZOFFSETFROM:-0700
TZOFFSETTO:-0800
TZNAME:PST
DTSTART:19701101T020000
RRULE:FREQ=YEARLY;BYMONTH=11;BYDAY=1SU
END:STANDARD
END:VTIMEZONE
BEGIN:VEVENT
UID:1464587:Event:544934
DTSTAMP:20260420T231842Z
SUMMARY:Logic (Atlanta)
DESCRIPTION:\nDate\nLocation\nEvent Details\nFind Tickets\n\n\nFEB  
 \n28\nSAT\n\nCenter Stage TheaterAtlanta, GA09:00 PM \n\n Logic: Un
 der Pressure  World Tour Presented  By Monster Energy  Outbreak De
 tails: Logic\nMore Info NO TICKETS RIGHT NOW\n\n\n\n\nFor more inform
 ation visit http://trueskool.com/events/logic-atlanta
DTSTART;TZID=America/Los_Angeles:20150228T210000
DTEND;TZID=America/Los_Angeles:20150228T230000
CATEGORIES:atlanta, georgia, atl
LOCATION:Center Stage Theater, Atlanta
WEBSITE:http://www.ticketmaster.com/logic-under-pressure-world-tour-pr
 esented-atlanta-georgia-02-28-2015/event/0E004D731188B3F3?artistid=160
 4590&majorcatid=10001&minorcatid=3&tm_link=artist_msg-2_0E004D731188B3
 F3
URL:http://www.ticketmaster.com/logic-under-pressure-world-tour-presen
 ted-atlanta-georgia-02-28-2015/event/0E004D731188B3F3?artistid=1604590
 &majorcatid=10001&minorcatid=3&tm_link=artist_msg-2_0E004D731188B3F3
CONTACT:
ORGANIZER;CN="Editor's Pick":http://trueskool.com/profile/RentheVinylA
 rchaeologist
ATTACH;FMTTYPE="image/jpeg":http://storage.ning.com/topology/rest/1.0/
 file/get/2247974624?profile=original
ATTENDEE;ROLE=REQ-PARTICIPANT;PARTSTAT=ACCEPTED;RSVP=TRUE;CN="Editor's
  Pick":http://trueskool.com/profile/RentheVinylArchaeologist
END:VEVENT
END:VCALENDAR
