BEGIN:VCALENDAR
PRODID:NingEventWidget-v1
VERSION:2.0
METHOD:PUBLISH
BEGIN:VTIMEZONE
TZID:America/Los_Angeles
X-LIC-LOCATION:America/Los_Angeles
BEGIN:DAYLIGHT
TZOFFSETFROM:-0800
TZOFFSETTO:-0700
TZNAME:PDT
DTSTART:19700308T020000
RRULE:FREQ=YEARLY;BYMONTH=3;BYDAY=2SU
END:DAYLIGHT
BEGIN:STANDARD
TZOFFSETFROM:-0700
TZOFFSETTO:-0800
TZNAME:PST
DTSTART:19701101T020000
RRULE:FREQ=YEARLY;BYMONTH=11;BYDAY=1SU
END:STANDARD
END:VTIMEZONE
BEGIN:VEVENT
UID:1464587:Event:646587
DTSTAMP:20260420T102137Z
SUMMARY:LOGIC
DESCRIPTION:LOGIC\nplus special guest Vince Staples\nMonday, April 11,
  2016Doors: 7:00PM Show: 8:00PM\n290 S 7th StreetSan Jose, CA 95112408
 -924-6360EVENT CENTER AT SAN JOSE STATE UNIVERSITY\n\n\n\nFor more inf
 ormation visit http://trueskool.com/events/logic-3
DTSTART;TZID=America/Los_Angeles:20160411T190000
DTEND;TZID=America/Los_Angeles:20160411T230000
CATEGORIES:"san francisco", oakland, berkley, "san jose", "bay area"
LOCATION:Event Center at San Jose State University, San Jose
WEBSITE:http://www.ticketmaster.com/logic-san-jose-california-04-11-20
 16/event/1C00506A06317813?artistid=1604590&majorcatid=10001&minorcatid
 =3&tm_link=artist_msg-0_1C00506A06317813?brand=goldenvoice
URL:http://www.ticketmaster.com/logic-san-jose-california-04-11-2016/e
 vent/1C00506A06317813?artistid=1604590&majorcatid=10001&minorcatid=3&t
 m_link=artist_msg-0_1C00506A06317813?brand=goldenvoice
CONTACT:
ORGANIZER;CN="Editor's Pick":http://trueskool.com/profile/RentheVinylA
 rchaeologist
ATTACH;FMTTYPE="image/jpeg":http://storage.ning.com/topology/rest/1.0/
 file/get/2247986336?profile=original
ATTENDEE;ROLE=REQ-PARTICIPANT;PARTSTAT=ACCEPTED;RSVP=TRUE;CN="Editor's
  Pick":http://trueskool.com/profile/RentheVinylArchaeologist
END:VEVENT
END:VCALENDAR
