BEGIN:VCALENDAR
PRODID:NingEventWidget-v1
VERSION:2.0
METHOD:PUBLISH
BEGIN:VTIMEZONE
TZID:America/Los_Angeles
X-LIC-LOCATION:America/Los_Angeles
BEGIN:DAYLIGHT
TZOFFSETFROM:-0800
TZOFFSETTO:-0700
TZNAME:PDT
DTSTART:19700308T020000
RRULE:FREQ=YEARLY;BYMONTH=3;BYDAY=2SU
END:DAYLIGHT
BEGIN:STANDARD
TZOFFSETFROM:-0700
TZOFFSETTO:-0800
TZNAME:PST
DTSTART:19701101T020000
RRULE:FREQ=YEARLY;BYMONTH=11;BYDAY=1SU
END:STANDARD
END:VTIMEZONE
BEGIN:VEVENT
UID:1464587:Event:71923
DTSTAMP:20260421T021043Z
SUMMARY:Live Reggae Concert Fundraiser
DESCRIPTION:Native Elements band will have you skankin all night. DJ F
 reeze on the 1's and 2's to get your booty shakin. Come on down and he
 lp us raise some funds for HIV/AIDS awareness in South Africa. Fight t
 he HIV! Yeah!\n\nFor more information visit http://trueskool.com/event
 s/live-reggae-concert-fundraiser
DTSTART;TZID=America/Los_Angeles:20101204T210000
DTEND;TZID=America/Los_Angeles:20101205T020000
CATEGORIES:mink, bar, and, lounge
LOCATION:Daly City
WEBSITE:http://juliesglobalchallenge.blogspot.com/
URL:http://juliesglobalchallenge.blogspot.com/
CONTACT:
ORGANIZER;CN="Rola Faddy":http://trueskool.com/profile/RolaFaddy
ATTACH;FMTTYPE="image/jpeg":http://storage.ning.com/topology/rest/1.0/
 file/get/2247886534?profile=original
ATTENDEE;ROLE=REQ-PARTICIPANT;PARTSTAT=ACCEPTED;RSVP=TRUE;CN="Rola Fad
 dy":http://trueskool.com/profile/RolaFaddy
END:VEVENT
END:VCALENDAR
