BEGIN:VCALENDAR
PRODID:NingEventWidget-v1
VERSION:2.0
METHOD:PUBLISH
BEGIN:VTIMEZONE
TZID:America/Los_Angeles
X-LIC-LOCATION:America/Los_Angeles
BEGIN:DAYLIGHT
TZOFFSETFROM:-0800
TZOFFSETTO:-0700
TZNAME:PDT
DTSTART:19700308T020000
RRULE:FREQ=YEARLY;BYMONTH=3;BYDAY=2SU
END:DAYLIGHT
BEGIN:STANDARD
TZOFFSETFROM:-0700
TZOFFSETTO:-0800
TZNAME:PST
DTSTART:19701101T020000
RRULE:FREQ=YEARLY;BYMONTH=11;BYDAY=1SU
END:STANDARD
END:VTIMEZONE
BEGIN:VEVENT
UID:1464587:Event:379081
DTSTAMP:20260421T103619Z
SUMMARY:LIRA the Queen of Afro-Soul debuts in LA
DESCRIPTION:Doors at 9pm / 1 show with 2 sets at 10pm & 11.30pm\nLIRA 
 the Queen of Afro-Soul is a multi-platinum award winning South African
  artist and like Sade before her, blends R&B, Jazz and African element
 s into a sensual, appealing pop music sound with huge global appeal. S
 he has graced the covers of numerous lifestyle magazines worldwide & w
 on a multitude of accolades from The South African Music Awards (the S
 A equivalent of a Grammy), to the MTV Africa Awards, Channel O Awards,
  Metro FM & MOJO Awards as well as Glamour Magazine South Africa's 200
 8 \"Woman of the Year.\"\nEssence Magazine named her one of “five un
 ique artists to change music.”\nRise Again, her U.S. debut on Shanac
 hie Records, is a wide-ranging collection of her best work to date, in
 cluding the smash hit title track, which shows off her soulful, jazzy 
 and African-oriented sides. Included is a version of “Something Insi
 de So Strong,” which she performed at ceremonies honoring Nelson Man
 dela.\nPlease join us in welcoming this rising new global star to LA a
 nd her debut at FIFTY SEVEN !\n\n\nFor more information visit http://t
 rueskool.com/events/lira-the-queen-of-afro-soul-debuts-in-la
DTSTART;TZID=America/Los_Angeles:20140701T210000
DTEND;TZID=America/Los_Angeles:20140701T234500
CATEGORIES:fifty, seven, lira, downtown, la, south, africa, afro-soul,
  los, angeles
LOCATION:Fifty Seven, Los Angeles CA
WEBSITE:http://fiftysevenla.electrostub.com/event.cfm?id=120397&cart
URL:http://fiftysevenla.electrostub.com/event.cfm?id=120397&cart
CONTACT:213-816-8157
ORGANIZER:Jonathan Rudnick / Downstairs at Fifty Seven
ATTACH;FMTTYPE="image/jpeg":http://storage.ning.com/topology/rest/1.0/
 file/get/2247963353?profile=original
ATTENDEE;ROLE=REQ-PARTICIPANT;PARTSTAT=ACCEPTED;RSVP=TRUE;CN="Jonathan
  Rudnick":http://trueskool.com/profile/JonathanRudnick
END:VEVENT
END:VCALENDAR
