BEGIN:VCALENDAR
PRODID:NingEventWidget-v1
VERSION:2.0
METHOD:PUBLISH
BEGIN:VTIMEZONE
TZID:America/Los_Angeles
X-LIC-LOCATION:America/Los_Angeles
BEGIN:DAYLIGHT
TZOFFSETFROM:-0800
TZOFFSETTO:-0700
TZNAME:PDT
DTSTART:19700308T020000
RRULE:FREQ=YEARLY;BYMONTH=3;BYDAY=2SU
END:DAYLIGHT
BEGIN:STANDARD
TZOFFSETFROM:-0700
TZOFFSETTO:-0800
TZNAME:PST
DTSTART:19701101T020000
RRULE:FREQ=YEARLY;BYMONTH=11;BYDAY=1SU
END:STANDARD
END:VTIMEZONE
BEGIN:VEVENT
UID:1464587:Event:652430
DTSTAMP:20260420T122622Z
SUMMARY:LION BABE: Kamau
DESCRIPTION:LION BABEKamau\nThe IndependentSan Francisco, CATuesday, A
 ugust 09, 2016Show: 9:00pm\n\nFor more information visit http://truesk
 ool.com/events/lion-babe-kamau
DTSTART;TZID=America/Los_Angeles:20160809T210000
DTEND;TZID=America/Los_Angeles:20160809T230000
CATEGORIES:"san francisco", oakland, berkley, "san jose", "bay area"
LOCATION:The Independent, San Francisco
WEBSITE:http://www.apeconcerts.com/events/lion-babe/#!
URL:http://www.apeconcerts.com/events/lion-babe/#!
CONTACT:
ORGANIZER;CN="Editor's Pick":http://trueskool.com/profile/RentheVinylA
 rchaeologist
ATTACH;FMTTYPE="image/jpeg":http://storage.ning.com/topology/rest/1.0/
 file/get/2247990027?profile=original
ATTENDEE;ROLE=REQ-PARTICIPANT;PARTSTAT=ACCEPTED;RSVP=TRUE;CN="Editor's
  Pick":http://trueskool.com/profile/RentheVinylArchaeologist
END:VEVENT
END:VCALENDAR
