BEGIN:VCALENDAR
PRODID:NingEventWidget-v1
VERSION:2.0
METHOD:PUBLISH
BEGIN:VTIMEZONE
TZID:America/Los_Angeles
X-LIC-LOCATION:America/Los_Angeles
BEGIN:DAYLIGHT
TZOFFSETFROM:-0800
TZOFFSETTO:-0700
TZNAME:PDT
DTSTART:19700308T020000
RRULE:FREQ=YEARLY;BYMONTH=3;BYDAY=2SU
END:DAYLIGHT
BEGIN:STANDARD
TZOFFSETFROM:-0700
TZOFFSETTO:-0800
TZNAME:PST
DTSTART:19701101T020000
RRULE:FREQ=YEARLY;BYMONTH=11;BYDAY=1SU
END:STANDARD
END:VTIMEZONE
BEGIN:VEVENT
UID:1464587:Event:633163
DTSTAMP:20260421T182348Z
SUMMARY:Lil Durk (CANCELLED)
DESCRIPTION:\n Tue, Aug 11, 2015  Lil Durk Gunplay and Hypno Carlito\n
 The Regency Ballroom 1300 Van Ness Avenue San Francisco, CA 94109 Door
 s: 7:00PM. Show: 8:00PM Price: $22.50 Door Price: $25.00 \n\nFor more 
 information visit http://trueskool.com/events/lil-durk
DTSTART;TZID=America/Los_Angeles:20150811T190000
DTEND;TZID=America/Los_Angeles:20150811T230000
CATEGORIES:"bay area", "san francisco"
LOCATION:Regency Ballroom, SF
WEBSITE:http://www.axs.com/events/280432/lil-durk-tickets?CID=REg_LilD
 urk_TrueSkool
URL:http://www.axs.com/events/280432/lil-durk-tickets?CID=REg_LilDurk_
 TrueSkool
CONTACT:
ORGANIZER:Goldenvoice
ATTACH;FMTTYPE="image/jpeg":http://storage.ning.com/topology/rest/1.0/
 file/get/2247978325?profile=original
ATTENDEE;ROLE=REQ-PARTICIPANT;PARTSTAT=ACCEPTED;RSVP=TRUE;CN="Editor's
  Pick":http://trueskool.com/profile/RentheVinylArchaeologist
END:VEVENT
END:VCALENDAR
