BEGIN:VCALENDAR
PRODID:NingEventWidget-v1
VERSION:2.0
METHOD:PUBLISH
BEGIN:VTIMEZONE
TZID:America/Los_Angeles
X-LIC-LOCATION:America/Los_Angeles
BEGIN:DAYLIGHT
TZOFFSETFROM:-0800
TZOFFSETTO:-0700
TZNAME:PDT
DTSTART:19700308T020000
RRULE:FREQ=YEARLY;BYMONTH=3;BYDAY=2SU
END:DAYLIGHT
BEGIN:STANDARD
TZOFFSETFROM:-0700
TZOFFSETTO:-0800
TZNAME:PST
DTSTART:19701101T020000
RRULE:FREQ=YEARLY;BYMONTH=11;BYDAY=1SU
END:STANDARD
END:VTIMEZONE
BEGIN:VEVENT
UID:1464587:Event:640023
DTSTAMP:20260420T085503Z
SUMMARY:#LIFESTYLE (2nd Saturdays) w/ Mike Lewis
DESCRIPTION:Ready for something new?…\nIt’s our attitude, way of l
 ife and world view. We party, have fun and look good doing it. We list
 en to tunes that are spiritually rich, full of soul, and sometimes a b
 it…splashy. Throw backs, classics, and the latest knocks keep us mov
 ing. It’s our #LIFESTYLE.\n\nWin a free bottle and table reservation
  for 6!\n\nThis installment of #LIFESTYLE (2nd Saturdays) will take pl
 ace on Saturday Mar. 12 | 10 PM @ John Colins (138 Minna St in SF) 
 with DJ Mike Lewis.\n\nNo cover B4 11\n\nDJ Bio\nFor the past decade,
  Mike Lewis has been taste making in the Bay Area. He believes that ne
 arly all music has an appropriate time and place. At John Colins Loun
 ge in San Francisco on 2nd Saturdays, the time and place will appeal 
 to partygoers (period).  Spinning your favorite R&B, Soul, Hip-Hop, D
 ancehall, Reggae, Vegas Pop, and other Tasty Treats.\n\nFor more infor
 mation visit http://trueskool.com/events/lifestyle-2nd-saturdays-w-mik
 e-lewis-5
DTSTART;TZID=America/Los_Angeles:20160312T220000
DTEND;TZID=America/Los_Angeles:20160313T020000
CATEGORIES:"san francisco", "bay area", soma, sf, ca, norcal
LOCATION:John Colins Lounge, SF
WEBSITE:http://www.soulsimplesounds.com/lifestyle-2nd-saturdays-john-c
 olins/
URL:http://www.soulsimplesounds.com/lifestyle-2nd-saturdays-john-colin
 s/
CONTACT:(415) 512-7493
ORGANIZER;CN="Mike Lewis":http://trueskool.com/profile/MikeLewis
ATTACH;FMTTYPE="image/jpeg":http://storage.ning.com/topology/rest/1.0/
 file/get/2247981046?profile=original
ATTENDEE;ROLE=REQ-PARTICIPANT;PARTSTAT=ACCEPTED;RSVP=TRUE;CN="Mike Lew
 is":http://trueskool.com/profile/MikeLewis
END:VEVENT
END:VCALENDAR
