BEGIN:VCALENDAR
PRODID:NingEventWidget-v1
VERSION:2.0
METHOD:PUBLISH
BEGIN:VTIMEZONE
TZID:America/Los_Angeles
X-LIC-LOCATION:America/Los_Angeles
BEGIN:DAYLIGHT
TZOFFSETFROM:-0800
TZOFFSETTO:-0700
TZNAME:PDT
DTSTART:19700308T020000
RRULE:FREQ=YEARLY;BYMONTH=3;BYDAY=2SU
END:DAYLIGHT
BEGIN:STANDARD
TZOFFSETFROM:-0700
TZOFFSETTO:-0800
TZNAME:PST
DTSTART:19701101T020000
RRULE:FREQ=YEARLY;BYMONTH=11;BYDAY=1SU
END:STANDARD
END:VTIMEZONE
BEGIN:VEVENT
UID:1464587:Event:662429
DTSTAMP:20260421T141705Z
SUMMARY:Libratone Silent Disco
DESCRIPTION:Libratone Silent Disco\nMay 26 at 12 PM to May 28 at 6 PM 
 PDT\nBottleRock Napa\n575 3rd St, Napa, California 94559\n\nBottleRock
  Napa Valley is excited for the return of the Libratone Silent Disco (
 https://www.libratone.com/us/) . Produced for the third straight year 
 by HUSHconcerts, this hidden gem of 2-channel, highly curated silent d
 isco will feature 30 of the Bay Area’s finest DJ’s from the region
 s most famed DJ crews. 219 Boys, 8 Ball, Brian Eye, Chuck Jones, Clark
  Hamon, Deckard, DJ Alarm, DJ Icon, Gordo Cabeza, Grensta, J.Boogie, J
 ustin Milla, Mancub, Manics (DJ Set), Matt Haze, Motion Potion, Phleck
 , Ren the Vinyl Archaeologist, Shaw Quentin, Shooey, Shouts!, Sound it
  Out!, TekFreaks, Vitamindevo and Zach Moore will all grace the decks 
 with everything from old school and new school disco and hip hop, moto
 wn soul, tropical beats, breaks, house, edm, bass music, trap, and the
  return of the extended Prince set by Motion Potion on Sunday. Dance, 
 lounge, gawk or sample Libratone’s amazing audio product line of blu
 etooth headphones and speakers. Keep up with the daily lineups and upd
 ates on this page!\n\n\n\nFor more information visit http://trueskool.
 com/events/libratone-silent-disco
DTSTART;TZID=America/Los_Angeles:20170526T120000
DTEND;TZID=America/Los_Angeles:20170528T180000
CATEGORIES:"napa valley, sacramento, santa rosa, roseville"
LOCATION:BottleRock, Napa
WEBSITE:https://www.libratone.com/us/
URL:https://www.libratone.com/us/
CONTACT:
ORGANIZER;CN="Editor's Pick":http://trueskool.com/profile/RentheVinylA
 rchaeologist
ATTACH;FMTTYPE="image/jpeg":http://storage.ning.com/topology/rest/1.0/
 file/get/2247996719?profile=original
ATTENDEE;ROLE=REQ-PARTICIPANT;PARTSTAT=ACCEPTED;RSVP=TRUE;CN="Editor's
  Pick":http://trueskool.com/profile/RentheVinylArchaeologist
END:VEVENT
END:VCALENDAR
