BEGIN:VCALENDAR
PRODID:NingEventWidget-v1
VERSION:2.0
METHOD:PUBLISH
BEGIN:VTIMEZONE
TZID:America/Los_Angeles
X-LIC-LOCATION:America/Los_Angeles
BEGIN:DAYLIGHT
TZOFFSETFROM:-0800
TZOFFSETTO:-0700
TZNAME:PDT
DTSTART:19700308T020000
RRULE:FREQ=YEARLY;BYMONTH=3;BYDAY=2SU
END:DAYLIGHT
BEGIN:STANDARD
TZOFFSETFROM:-0700
TZOFFSETTO:-0800
TZNAME:PST
DTSTART:19701101T020000
RRULE:FREQ=YEARLY;BYMONTH=11;BYDAY=1SU
END:STANDARD
END:VTIMEZONE
BEGIN:VEVENT
UID:1464587:Event:584339
DTSTAMP:20260420T215008Z
SUMMARY:Liberation Space: Benefit Hip Hop Show for El Qilombo Communit
 y Center
DESCRIPTION:It is Black History Month, and were are throwing a communi
 ty fundraiser to support El Qilombo, a community space in Oakland. For
  many people the Qilombo social center has been part of their struggle
 . It has been a space where people from the neighborhood can be treate
 d well, access resources and share space with each other in a healthy 
 way. The space provides access to free clothing, food, hygiene kits, a
  clean syringe exchange and free use computers. It has also provided e
 vents space for meetings, gatherings, workshops, film screenings and c
 elebrations. It is a center for people who want to connect to differen
 t struggles and a powerful place to build towards autonomy. It provide
 s banner making space, printing materials and even a bike workshop.  W
 e got FGFK, Babii Cris, GIGIO, and Breathless aka Honey B rocking sets
 ! Show starts at 8pm on Saturday Feb 28th and is 18+ $5-$20 Sliding Sc
 ale.   Come support POC spaces a help keep El Qilombo Oakland strong!
 \n\nFor more information visit http://trueskool.com/events/liberation-
 space-benefit-hip-hop-show-for-el-qilombo-community
DTSTART;TZID=America/Los_Angeles:20150228T200000
DTEND;TZID=America/Los_Angeles:20150301T010000
CATEGORIES:oakland, "bay area", "west oakland"
LOCATION:El Qilombo, Oakland, CA
WEBSITE:https://www.facebook.com/events/402415153259213/
URL:https://www.facebook.com/events/402415153259213/
CONTACT:
ORGANIZER;CN="joseph penner":http://trueskool.com/profile/josephpenner
ATTACH;FMTTYPE="image/jpeg":http://storage.ning.com/topology/rest/1.0/
 file/get/2247974314?profile=original
ATTENDEE;ROLE=REQ-PARTICIPANT;PARTSTAT=ACCEPTED;RSVP=TRUE;CN="joseph p
 enner":http://trueskool.com/profile/josephpenner
END:VEVENT
END:VCALENDAR
