BEGIN:VCALENDAR
PRODID:NingEventWidget-v1
VERSION:2.0
METHOD:PUBLISH
BEGIN:VTIMEZONE
TZID:America/Los_Angeles
X-LIC-LOCATION:America/Los_Angeles
BEGIN:DAYLIGHT
TZOFFSETFROM:-0800
TZOFFSETTO:-0700
TZNAME:PDT
DTSTART:19700308T020000
RRULE:FREQ=YEARLY;BYMONTH=3;BYDAY=2SU
END:DAYLIGHT
BEGIN:STANDARD
TZOFFSETFROM:-0700
TZOFFSETTO:-0800
TZNAME:PST
DTSTART:19701101T020000
RRULE:FREQ=YEARLY;BYMONTH=11;BYDAY=1SU
END:STANDARD
END:VTIMEZONE
BEGIN:VEVENT
UID:1464587:Event:675876
DTSTAMP:20260423T023153Z
SUMMARY:Les Nubians
DESCRIPTION: FRIDAY, JUNE 15 Earshot Entertainment Presents Les Nubian
 s Dion Decibels\r\n@ The New Parish, Oakland Show: 9:00 pm (Doors: 8:0
 0 pm)  Ages 18 and Up Under 21 must buy $5 drink ticket at the door. $
 22 ADV / $25 DOS >> BUY TICKETS\r\n\n\nFor more information visit http
 ://trueskool.com/events/les-nubians-1
DTSTART;TZID=America/Los_Angeles:20180615T210000
DTEND;TZID=America/Los_Angeles:20180615T230000
CATEGORIES:"bay area", "san francisco"
LOCATION:The New Parish, Oakland
WEBSITE:https://www.ticketweb.com/event/les-nubians-dion-decibels-the-
 new-parish-tickets/8310205?pl=newparish&amp;amp;REFID=clientsitewp
URL:https://www.ticketweb.com/event/les-nubians-dion-decibels-the-new-
 parish-tickets/8310205?pl=newparish&amp;amp;REFID=clientsitewp
CONTACT:
ORGANIZER:Earshot Ent
ATTACH;FMTTYPE="image/jpeg":http://storage.ning.com/topology/rest/1.0/
 file/get/2248007639?profile=original
ATTENDEE;ROLE=REQ-PARTICIPANT;PARTSTAT=ACCEPTED;RSVP=TRUE;CN="Editor's
  Pick":http://trueskool.com/profile/RentheVinylArchaeologist
END:VEVENT
END:VCALENDAR
