BEGIN:VCALENDAR
PRODID:NingEventWidget-v1
VERSION:2.0
METHOD:PUBLISH
BEGIN:VTIMEZONE
TZID:America/Los_Angeles
X-LIC-LOCATION:America/Los_Angeles
BEGIN:DAYLIGHT
TZOFFSETFROM:-0800
TZOFFSETTO:-0700
TZNAME:PDT
DTSTART:19700308T020000
RRULE:FREQ=YEARLY;BYMONTH=3;BYDAY=2SU
END:DAYLIGHT
BEGIN:STANDARD
TZOFFSETFROM:-0700
TZOFFSETTO:-0800
TZNAME:PST
DTSTART:19701101T020000
RRULE:FREQ=YEARLY;BYMONTH=11;BYDAY=1SU
END:STANDARD
END:VTIMEZONE
BEGIN:VEVENT
UID:1464587:Event:642345
DTSTAMP:20260420T115658Z
SUMMARY:Leon Bridges
DESCRIPTION:Leon Bridges\n Lianne La Havas Friday, September 23 2016 8
 :00 PM Greek Theatre Berkeley, CA\n\nFor more information visit http:/
 /trueskool.com/events/leon-bridges
DTSTART;TZID=America/Los_Angeles:20160923T200000
DTEND;TZID=America/Los_Angeles:20160923T230000
CATEGORIES:"san francisco", oakland, berkley, "san jose", "bay area"
LOCATION:Greek Theatre, Berkeley
WEBSITE:http://www.ticketmaster.com/event/1C005044ACAA3850?brand=anoth
 erplanet&camefrom=CFC_ANOTHERPLANET_web
URL:http://www.ticketmaster.com/event/1C005044ACAA3850?brand=anotherpl
 anet&camefrom=CFC_ANOTHERPLANET_web
CONTACT:
ORGANIZER;CN="Editor's Pick":http://trueskool.com/profile/RentheVinylA
 rchaeologist
ATTACH;FMTTYPE="image/jpeg":http://storage.ning.com/topology/rest/1.0/
 file/get/2247983778?profile=original
ATTENDEE;ROLE=REQ-PARTICIPANT;PARTSTAT=ACCEPTED;RSVP=TRUE;CN="Editor's
  Pick":http://trueskool.com/profile/RentheVinylArchaeologist
END:VEVENT
END:VCALENDAR
