BEGIN:VCALENDAR
PRODID:NingEventWidget-v1
VERSION:2.0
METHOD:PUBLISH
BEGIN:VTIMEZONE
TZID:America/Los_Angeles
X-LIC-LOCATION:America/Los_Angeles
BEGIN:DAYLIGHT
TZOFFSETFROM:-0800
TZOFFSETTO:-0700
TZNAME:PDT
DTSTART:19700308T020000
RRULE:FREQ=YEARLY;BYMONTH=3;BYDAY=2SU
END:DAYLIGHT
BEGIN:STANDARD
TZOFFSETFROM:-0700
TZOFFSETTO:-0800
TZNAME:PST
DTSTART:19701101T020000
RRULE:FREQ=YEARLY;BYMONTH=11;BYDAY=1SU
END:STANDARD
END:VTIMEZONE
BEGIN:VEVENT
UID:1464587:Event:396060
DTSTAMP:20260420T214401Z
SUMMARY:Lee \"Scratch\" Perry & Subatomic Sound System
DESCRIPTION:\nVenue:\nThe Independent\n\nLocation:\nSan Francisco, CA\
 n\nShow Date:\nFriday, August 22\n\nShow Time:\n9:00PM\n\nOn Sale Date
 :\nFriday, June 27\n\nTicket Price:\n$25*plus applicable service feesT
 ickets available at The Independent (628 Divisadero, SF) for no servic
 e charge.\n\n\n\n\n\nFor more information visit http://trueskool.com/e
 vents/lee-scratch-perry-subatomic-sound-system
DTSTART;TZID=America/Los_Angeles:20140822T210000
DTEND;TZID=America/Los_Angeles:20140822T230000
CATEGORIES:"bay area, san francisco, oakland"
LOCATION:The Independent, San Francisco
WEBSITE:http://www.ticketfly.com/purchase/event/616225
URL:http://www.ticketfly.com/purchase/event/616225
CONTACT:
ORGANIZER;CN="Editor's Pick":http://trueskool.com/profile/RentheVinylA
 rchaeologist
ATTACH;FMTTYPE="image/jpeg":http://storage.ning.com/topology/rest/1.0/
 file/get/2247964775?profile=original
ATTENDEE;ROLE=REQ-PARTICIPANT;PARTSTAT=ACCEPTED;RSVP=TRUE;CN="James Mi
 chael Federighi":http://trueskool.com/profile/JamesMichaelFederighi
ATTENDEE;ROLE=REQ-PARTICIPANT;PARTSTAT=ACCEPTED;RSVP=TRUE;CN="Editor's
  Pick":http://trueskool.com/profile/RentheVinylArchaeologist
END:VEVENT
END:VCALENDAR
